BEGIN:VCALENDAR
VERSION:2.0
PRODID:-//Bibliotecas de Lisboa - ECPv5.3.1.1//NONSGML v1.0//EN
CALSCALE:GREGORIAN
METHOD:PUBLISH
X-WR-CALNAME:Bibliotecas de Lisboa
X-ORIGINAL-URL:https://blx.cm-lisboa.pt
X-WR-CALDESC:Events for Bibliotecas de Lisboa
BEGIN:VTIMEZONE
TZID:Europe/Lisbon
BEGIN:DAYLIGHT
TZOFFSETFROM:+0000
TZOFFSETTO:+0100
TZNAME:WEST
DTSTART:20260329T010000
END:DAYLIGHT
BEGIN:STANDARD
TZOFFSETFROM:+0100
TZOFFSETTO:+0000
TZNAME:WET
DTSTART:20261025T010000
END:STANDARD
END:VTIMEZONE
BEGIN:VEVENT
DTSTART;TZID=Europe/Lisbon:20260202T084500
DTEND;TZID=Europe/Lisbon:20260225T094500
DTSTAMP:20260423T215010
CREATED:20260122T111528Z
LAST-MODIFIED:20260122T120535Z
UID:40904-1770021900-1772012700@blx.cm-lisboa.pt
SUMMARY:Aulas de Yoga na biblioteca | fevereiro 2026
DESCRIPTION:Aulas de Yoga na biblioteca com a professora Mariana Pacheco. \n  \n\nÀs segundas e quartas-feiras\, aulas do estilo Hatha Yoga\, adaptado a todos os níveis de prática\nAs aulas têm início às 8h45 e têm uma duração aproximada de 1 hora\nÉ necessário trazer tapete\nAtividade paga\nValores:\n1x semana – 18€\n2x semana – 30€\nPack 10 aulas – 50€\n+65 anos / portadores de cartão BLX – 3€ de desconto\nMais informações e inscrições para: marymandalam@gmail.com\n\n  \nDatas | Horário: \n\n2 a 25 fevereiro\nsegundas e quartas\n8h45h-9h45\n\n  \nA atividade realiza-se na Biblioteca de Belém. \n  \n[imagem elaborada pela entidade dinamizadora da iniciativa] \nNo decorrer desta atividade\, são captadas imagens e som para divulgação pela CML\, entidade parceira ou promotora\, nos respetivos meios de comunicação\, como redes sociais e sites institucionais. Uma vez disponibilizados online\, os dados pessoais são suscetíveis de serem reutilizados e difundidos por terceiros.
URL:https://blx.cm-lisboa.pt/evento/aulas-de-yoga-na-biblioteca-fevereiro-2026/
LOCATION:Biblioteca de Belém\, Rua da Junqueira\, 295/7\, Lisboa\, 1300 - 338\, Portugal
CATEGORIES:Biblioteca Belém
ATTACH;FMTTYPE=image/jpeg:https://blx.cm-lisboa.pt/wp-content/uploads/2025/01/Yoga_1_MarianaPacheco.jpg
END:VEVENT
BEGIN:VEVENT
DTSTART;TZID=Europe/Lisbon:20260202T100000
DTEND;TZID=Europe/Lisbon:20260227T180000
DTSTAMP:20260423T215010
CREATED:20260120T180326Z
LAST-MODIFIED:20260209T170159Z
UID:40848-1770026400-1772215200@blx.cm-lisboa.pt
SUMMARY:Piano Digital
DESCRIPTION:Na biblioteca de Belém encontrará um piano digital\, de uso livre e gratuito\, sem necessidade de inscrição. \n\nTraga os seus auscultadores\, ligue-os ao instrumento e faça a sua música.\n\n  \nO piano encontra-se disponível\, no horário de funcionamento\, na Biblioteca de Belém. \n  \nNo decorrer desta atividade\, são captadas imagens e som para divulgação pela CML\, entidade parceira ou promotora\, nos respetivos meios de comunicação\, como redes sociais e sites institucionais. Uma vez disponibilizados online\, os dados pessoais são suscetíveis de serem reutilizados e difundidos por terceiros.
URL:https://blx.cm-lisboa.pt/evento/piano-digital-14/
LOCATION:Biblioteca de Belém\, Rua da Junqueira\, 295/7\, Lisboa\, 1300 - 338\, Portugal
CATEGORIES:Biblioteca Belém
ATTACH;FMTTYPE=image/jpeg:https://blx.cm-lisboa.pt/wp-content/uploads/2025/12/2026_PianoDigital_site.jpg
END:VEVENT
BEGIN:VEVENT
DTSTART;TZID=Europe/Lisbon:20260202T100000
DTEND;TZID=Europe/Lisbon:20260227T180000
DTSTAMP:20260423T215010
CREATED:20260121T142121Z
LAST-MODIFIED:20260121T142121Z
UID:40863-1770026400-1772215200@blx.cm-lisboa.pt
SUMMARY:Banco de Tempo da Biblioteca de Belém
DESCRIPTION:O Banco de Tempo é um sistema de organização de trocas solidárias que promove o encontro entre a oferta e a procura de serviços disponibilizados pelos cidadãos. \nUm sistema de trocas gratuitas\, uma experiência de partilha e comunidade. \n  \nO que pode encontrar neste Banco de Tempo: \n\nConversas em diferentes idiomas\nApoio na produção de podcast\nCulinária\nCostura e decoração\nPiano\nApoio no arranjo de bicicletas\nCaminhadas\nBrainstorming\nE muito mais…\n\nVenha conhecer-nos! \n  \n\nDinamizado por: Biblioteca de Belém\, parcerias informais na comunidade e Rede Nacional do Banco de Tempo\nPara pessoas jovens e adultas\nEntrada livre\n\n  \nHorário de funcionamento: \n\nde segunda a sexta | 10h00 às 18h00\n1.º e 3.º sábados do mês | 10h00 às 18h00\nInscrição de novos membros: quartas-feiras | 14h00 às 18h00\n\n  \nNa Biblioteca de Belém. \n  \nCréditos da imagem: ©Inês d’Orey \nNo decorrer desta atividade\, são captadas imagens e som para divulgação pela CML\, entidade parceira ou promotora\, nos respetivos meios de comunicação\, como redes sociais e sites institucionais. Uma vez disponibilizados online\, os dados pessoais são suscetíveis de serem reutilizados e difundidos por terceiros.
URL:https://blx.cm-lisboa.pt/evento/banco-de-tempo-da-biblioteca-de-belem-5/
LOCATION:Biblioteca de Belém\, Rua da Junqueira\, 295/7\, Lisboa\, 1300 - 338\, Portugal
CATEGORIES:Biblioteca Belém
ATTACH;FMTTYPE=image/jpeg:https://blx.cm-lisboa.pt/wp-content/uploads/2025/10/Apr-BancoTempo-site3.jpg
END:VEVENT
BEGIN:VEVENT
DTSTART;TZID=Europe/Lisbon:20260211T100000
DTEND;TZID=Europe/Lisbon:20260226T180000
DTSTAMP:20260423T215010
CREATED:20260129T143606Z
LAST-MODIFIED:20260129T144418Z
UID:41092-1770804000-1772128800@blx.cm-lisboa.pt
SUMMARY:Estudo Gráfico para o Zine Avesso
DESCRIPTION:Exposição ‘Estudo Gráfico para o Zine Avesso‘ de Andrea Ebert. \n  \nPatente\, no horário de funcionamento\, de 11 a 26 fevereiro\, na Biblioteca de Belém. \nEntrada livre. \n  \nCréditos da imagem: © Andrea Ebert \nNo decorrer desta atividade\, são captadas imagens e som para divulgação pela CML\, entidade parceira ou promotora\, nos respetivos meios de comunicação\, como redes sociais e sites institucionais. Uma vez disponibilizados online\, os dados pessoais são suscetíveis de serem reutilizados e difundidos por terceiros.
URL:https://blx.cm-lisboa.pt/evento/estudo-grafico-para-o-zine-avesso/
LOCATION:Biblioteca de Belém\, Rua da Junqueira\, 295/7\, Lisboa\, 1300 - 338\, Portugal
CATEGORIES:Biblioteca Belém
ATTACH;FMTTYPE=image/jpeg:https://blx.cm-lisboa.pt/wp-content/uploads/2026/01/ExpoZine_Site.jpg
END:VEVENT
BEGIN:VEVENT
DTSTART;TZID=Europe/Lisbon:20260221T103000
DTEND;TZID=Europe/Lisbon:20260221T120000
DTSTAMP:20260423T215010
CREATED:20260129T180050Z
LAST-MODIFIED:20260129T180208Z
UID:41105-1771669800-1771675200@blx.cm-lisboa.pt
SUMMARY:Ensemble de instrumentos reciclados
DESCRIPTION:Reutilizando os objetos do dia a dia que perderam a sua utilização principal\, tais como embalagens de plástico que são as mais nocivas para o meio ambiente\, procuramos construir instrumentos musicais. \nSendo o público-alvo as famílias\, a atividade pretende construir instrumentos para que os participantes possam produzir Som e\, assim\, aprender Música através de alguns elementos como o Ritmo\, Duração\, Intensidade e Timbre\, potenciando a sensibilidade artística aliada a uma preocupação ambiental que deve ser fomentada\, diariamente. \n  \n\nDinamização: João Resende Freitas e Susana Costa | BLX\nSugerido para famílias com crianças a partir dos 6 anos.\nParticipação gratuita e com marcação prévia para: bib.belem.infantil@cm-lisboa.pt\n\n  \nDia 21 fevereiro\, 10h30\, na Biblioteca de Belém. \n  \nCréditos da ilustração: © Bernardo P. Carvalho (do livro Plasticus Maritiumus) \n  \nNo decorrer desta atividade\, são captadas imagens e som para divulgação pela CML\, entidade parceira ou promotora\, nos respetivos meios de comunicação\, como redes sociais e sites institucionais.
URL:https://blx.cm-lisboa.pt/evento/ensemble-de-instrumentos-reciclados/
LOCATION:Biblioteca de Belém\, Rua da Junqueira\, 295/7\, Lisboa\, 1300 - 338\, Portugal
CATEGORIES:Biblioteca Belém
ATTACH;FMTTYPE=image/jpeg:https://blx.cm-lisboa.pt/wp-content/uploads/2026/01/EnsembleInstrumentosMusicais_site.jpg
END:VEVENT
BEGIN:VEVENT
DTSTART;TZID=Europe/Lisbon:20260221T150000
DTEND;TZID=Europe/Lisbon:20260221T170000
DTSTAMP:20260423T215010
CREATED:20260130T141344Z
LAST-MODIFIED:20260130T142531Z
UID:41120-1771686000-1771693200@blx.cm-lisboa.pt
SUMMARY:Reivindicações femininas e a conquista da cidadania no Brasil
DESCRIPTION:Tertúlia organizada pelo grupo de fundadoras da Biblioteca Especializada Ana de Castro Osório (BEACO). \n  \n\nDinamizado por: Grupo de fundadoras da Biblioteca Especializada Ana de Castro Osório\nPalestrante: Elisa Fauth\n\n  \n  \nDia 21 fevereiro\, 15h00\, na Biblioteca de Belém. \nEntrada livre. \n  \n  \nCréditos da imagem: ©DR. Bertha Lutz na Conferência da ONU. Arquivo da ONU \nNo decorrer desta atividade\, são captadas imagens e som para divulgação pela CML\, entidade parceira ou promotora\, nos respetivos meios de comunicação\, como redes sociais e sites institucionais. Uma vez disponibilizados online\, os dados pessoais são suscetíveis de serem reutilizados e difundidos por terceiros.
URL:https://blx.cm-lisboa.pt/evento/reivindicacoes-femininas-e-a-conquista-da-cidadania-no-brasil/
LOCATION:Biblioteca de Belém\, Rua da Junqueira\, 295/7\, Lisboa\, 1300 - 338\, Portugal
CATEGORIES:Biblioteca Belém
ATTACH;FMTTYPE=image/jpeg:https://blx.cm-lisboa.pt/wp-content/uploads/2026/01/CicloTertuliasBEACO_21fev_site.jpg
END:VEVENT
BEGIN:VEVENT
DTSTART;TZID=Europe/Lisbon:20260221T150000
DTEND;TZID=Europe/Lisbon:20260221T170000
DTSTAMP:20260423T215010
CREATED:20260130T143118Z
LAST-MODIFIED:20260202T122921Z
UID:41125-1771686000-1771693200@blx.cm-lisboa.pt
SUMMARY:Cicloficina
DESCRIPTION:A Cicloficina da Junqueira é um projeto comunitário de apoio à manutenção e reparação de bicicletas\, e à mobilidade sustentável e vem à Biblioteca de Belém\, para convívio e partilha de saberes ao redor das bicicletas. \nA sua bicicleta precisa de um jeitinho? Visite-nos na biblioteca\, partilhe experiências sobre bicicletas e mobilidade e comece a pedalar! \nHaverá também o momento “Larga as rodinhas”\, para os mais pequenos. \n  \n\nPara mais informações: bib.belem@cm-lisboa.pt | Tel: 218 172 580\n\n  \nDia 21 fevereiro\, entre as 15h00 e as 17h00\, na Biblioteca de Belém. \nEntrada livre. \n  \nCréditos da foto © João Barata | CML \nNo decorrer desta atividade\, são captadas imagens e som para divulgação pela CML\, entidade parceira ou promotora\, nos respetivos meios de comunicação\, como redes sociais e sites institucionais. Uma vez disponibilizados online\, os dados pessoais são suscetíveis de serem reutilizados e difundidos por terceiros.
URL:https://blx.cm-lisboa.pt/evento/cicloficina-13/
LOCATION:Biblioteca de Belém\, Rua da Junqueira\, 295/7\, Lisboa\, 1300 - 338\, Portugal
CATEGORIES:Biblioteca Belém
ATTACH;FMTTYPE=image/jpeg:https://blx.cm-lisboa.pt/wp-content/uploads/2026/01/Cicloficina_site-21fev.jpg
END:VEVENT
BEGIN:VEVENT
DTSTART;TZID=Europe/Lisbon:20260221T153000
DTEND;TZID=Europe/Lisbon:20260221T180000
DTSTAMP:20260423T215010
CREATED:20260130T165722Z
LAST-MODIFIED:20260130T165722Z
UID:41137-1771687800-1771696800@blx.cm-lisboa.pt
SUMMARY:Como fazer um zine
DESCRIPTION:Oficina para aprender a criar um fanzine\, seguida de uma conversa com Andrea Ebert\, sobre o projeto desenvolvido na Biblioteca Feminista\, em Londres. \nA palavra fanzine resulta da contração dos termos ingleses fanatic e magazine\, que viria a significar “magazine do fã”. \n  \nHorário: \n\n15h30 às 17h | Oficina\n17h às 18h | Conversa\n\n  \nInformações adicionais: \n\nDinamizado por: Andrea Ebert\nPara maiores de 12 anos (oficina)\nEntrada gratuita e com marcação\nContacto para marcação: bib.belem@cm-lisboa.pt\n\n  \nDia 21 fevereiro\, na Biblioteca de Belém. \n  \nNo decorrer desta atividade\, são captadas imagens e som para divulgação pela CML\, entidade parceira ou promotora\, nos respetivos meios de comunicação\, como redes sociais e sites institucionais. Uma vez disponibilizados online\, os dados pessoais são suscetíveis de serem reutilizados e difundidos por terceiros.
URL:https://blx.cm-lisboa.pt/evento/como-fazer-um-zine/
LOCATION:Biblioteca de Belém\, Rua da Junqueira\, 295/7\, Lisboa\, 1300 - 338\, Portugal
CATEGORIES:Biblioteca Belém
ATTACH;FMTTYPE=image/jpeg:https://blx.cm-lisboa.pt/wp-content/uploads/2026/01/OficinaZine_site.jpg
END:VEVENT
BEGIN:VEVENT
DTSTART;TZID=Europe/Lisbon:20260221T160000
DTEND;TZID=Europe/Lisbon:20260221T170000
DTSTAMP:20260423T215010
CREATED:20260130T161632Z
LAST-MODIFIED:20260227T163134Z
UID:41132-1771689600-1771693200@blx.cm-lisboa.pt
SUMMARY:Ibero-América em livros
DESCRIPTION:Uma vez por mês vamos conhecer a vida e a obra de diferentes autores e autoras da literatura ibero-americana. \nAs sessões são faladas em português. \n  \nEm fevereiro iremos ler “Laços de família : contos” e falar sobre a autora\, Clarice Lispector. \n\nModeração: Marco Villamil.\nParticipação gratuita e com marcação prévia.\nMarcações para: bib.belem@cm-lisboa.pt\n\n  \nDia 21 fevereiro\, pelas 16h00\, na Biblioteca de Belém. \n  \nCréditos da imagem: ©Acervo IMS/reprodução \nNo decorrer desta atividade\, são captadas imagens e som para divulgação pela CML\, entidade parceira ou promotora\, nos respetivos meios de comunicação\, como redes sociais e sites institucionais. Uma vez disponibilizados online\, os dados pessoais são suscetíveis de serem reutilizados e difundidos por terceiros.
URL:https://blx.cm-lisboa.pt/evento/ibero-america-em-livros-clarice-lispector/
LOCATION:Biblioteca de Belém\, Rua da Junqueira\, 295/7\, Lisboa\, 1300 - 338\, Portugal
CATEGORIES:Biblioteca Belém
ATTACH;FMTTYPE=image/jpeg:https://blx.cm-lisboa.pt/wp-content/uploads/2026/01/ClubeLeitura_IberoAmerica-Site_fevereiro.jpg
END:VEVENT
END:VCALENDAR