BEGIN:VCALENDAR
VERSION:2.0
PRODID:-//Bibliotecas de Lisboa - ECPv5.3.1.1//NONSGML v1.0//EN
CALSCALE:GREGORIAN
METHOD:PUBLISH
X-WR-CALNAME:Bibliotecas de Lisboa
X-ORIGINAL-URL:https://blx.cm-lisboa.pt
X-WR-CALDESC:Events for Bibliotecas de Lisboa
BEGIN:VTIMEZONE
TZID:Europe/Lisbon
BEGIN:DAYLIGHT
TZOFFSETFROM:+0000
TZOFFSETTO:+0100
TZNAME:WEST
DTSTART:20260329T010000
END:DAYLIGHT
BEGIN:STANDARD
TZOFFSETFROM:+0100
TZOFFSETTO:+0000
TZNAME:WET
DTSTART:20261025T010000
END:STANDARD
END:VTIMEZONE
BEGIN:VEVENT
DTSTART;TZID=Europe/Lisbon:20260320T003000
DTEND;TZID=Europe/Lisbon:20260620T233000
DTSTAMP:20260421T090051
CREATED:20260320T163457Z
LAST-MODIFIED:20260323T145612Z
UID:42317-1773966600-1781998200@blx.cm-lisboa.pt
SUMMARY:Ler na Primavera | 2026
DESCRIPTION:Celebrar a leitura na Primavera é celebrar a Maternidade\, o nascimento de algo\, a Árvore que personifica a força da Natureza\, o Livro que nos transporta para outros mundos\, o Teatro que nos permite brincar e expressar o tanto que podemos ser\, a Poesia que transforma as emoções em palavras\, é celebrar a Liberdade e a voz do povo\, é dar espaço às Festas Populares\, aos credos e ao brincar lá fora. \nA pluralidade da coleção de literatura infantojuvenil das Bibliotecas de Lisboa permite à Equipa de Mediação para a Infância celebrar a Primavera com os seus utilizadores pequenos e graúdos\, enquanto se dá a chegada da Andorinha\, que nos traz bons ventos e renovados voos literários. \n  \nA Equipa de Mediação para a Infância das Bibliotecas de Lisboa deixa as seguintes sugestões: \n\nLivros para crianças até aos 5 anos\nLivros para crianças entre os 6 e os 10 anos\nLivros para crianças a partir dos 10 anos\n\nConsulte AQUI a brochura com todos os exemplares. \n  \n 
URL:https://blx.cm-lisboa.pt/evento/ler-na-primavera-2026/
CATEGORIES:Biblioteca Alcântara - José Dias Coelho,Biblioteca Belém,Biblioteca Camões,Biblioteca Coruchéus,Biblioteca Itinerante,Biblioteca Marvila,Biblioteca Orlando Ribeiro,Biblioteca Palácio Galveias,Biblioteca Penha de França
ATTACH;FMTTYPE=image/jpeg:https://blx.cm-lisboa.pt/wp-content/uploads/2026/03/LerNaPrimavera_2026_site.jpg
END:VEVENT
BEGIN:VEVENT
DTSTART;TZID=Europe/Lisbon:20260401T200000
DTEND;TZID=Europe/Lisbon:20260429T211500
DTSTAMP:20260421T090051
CREATED:20260311T161050Z
LAST-MODIFIED:20260311T161211Z
UID:42010-1775073600-1777497300@blx.cm-lisboa.pt
SUMMARY:Portuguese conversational
DESCRIPTION:Aulas de português para estrangeiros. \n  \n\nDinamizado por: Projeto SPEAK\nPara pessoas adultas\nParticipação gratuita e mediante marcação prévia\nContacto para marcação: portugal.speak@gmail.com\n\n  \nDatas | Horário: \n\nsegundas e quartas\n1 a 29 abril\n20h às 21h15\n\n  \nAs sessões terão lugar na Biblioteca dos Coruchéus. \n  \nNo decorrer desta atividade\, são captadas imagens e som para divulgação pela CML\, entidade parceira ou promotora\, nos respetivos meios de comunicação\, como redes sociais e sites institucionais. Uma vez disponibilizados online\, os dados pessoais são suscetíveis de serem reutilizados e difundidos por terceiros.
URL:https://blx.cm-lisboa.pt/evento/portuguese-conversational-6/
LOCATION:Biblioteca dos Coruchéus\, Rua Alberto Oliveira\, Lisboa\, 1700-019\, Portugal
CATEGORIES:Biblioteca Coruchéus
END:VEVENT
BEGIN:VEVENT
DTSTART;TZID=Europe/Lisbon:20260406T174500
DTEND;TZID=Europe/Lisbon:20260427T184500
DTSTAMP:20260421T090051
CREATED:20260312T114011Z
LAST-MODIFIED:20260312T114011Z
UID:42047-1775497500-1777315500@blx.cm-lisboa.pt
SUMMARY:Corocheus – o nosso coro de Alvalade
DESCRIPTION:Ensaios de coro infantil promovido pela Associação de Pais da EB Coruchéus sob orientação do maestro Pedro Branco. \nVem inventar e cantar as tuas próprias canções. \n  \n\nDinamizado por: Biblioteca dos Coruchéus e Maestro Pedro Branco\nPara crianças entre os 5 e os 11 anos\nRealiza-se à segunda-feira\nAtividade paga\nValor: 12€ mensais\nContacto para marcação: coro.cheus@gmail.com\n\n  \nDatas | Horário: \n\nsegundas-feiras\n6\, 13\, 20 e 27 abril\n17h45 – 18h45\n\n  \nA atividade terá lugar na Biblioteca dos Coruchéus. \n  \nNo decorrer desta atividade\, são captadas imagens e som para divulgação pela CML\, entidade parceira ou promotora\, nos respetivos meios de comunicação\, como redes sociais e sites institucionais. Uma vez disponibilizados online\, os dados pessoais são suscetíveis de serem reutilizados e difundidos por terceiros.
URL:https://blx.cm-lisboa.pt/evento/corocheus-o-nosso-coro-de-alvalade-13/
LOCATION:Biblioteca dos Coruchéus\, Rua Alberto Oliveira\, Lisboa\, 1700-019\, Portugal
CATEGORIES:Biblioteca Coruchéus
END:VEVENT
BEGIN:VEVENT
DTSTART;TZID=Europe/Lisbon:20260407T100000
DTEND;TZID=Europe/Lisbon:20260430T180000
DTSTAMP:20260421T090051
CREATED:20260312T124748Z
LAST-MODIFIED:20260312T124748Z
UID:42052-1775556000-1777572000@blx.cm-lisboa.pt
SUMMARY:A viagem do meu eu
DESCRIPTION:Exposição de pintura ‘A viagem do meu eu’ por Hélder Cardoso. \n  \nPatente\, no horário de funcionamento\, de 7 a 30 abril\, na Biblioteca dos Coruchéus. \nEntrada livre. \n  \n  \nNo decorrer desta atividade\, são captadas imagens e som para divulgação pela CML\, entidade parceira ou promotora\, nos respetivos meios de comunicação\, como redes sociais e sites institucionais. Uma vez disponibilizados online\, os dados pessoais são suscetíveis de serem reutilizados e difundidos por terceiros.
URL:https://blx.cm-lisboa.pt/evento/a-viagem-do-meu-eu/
LOCATION:Biblioteca dos Coruchéus\, Rua Alberto Oliveira\, Lisboa\, 1700-019\, Portugal
CATEGORIES:Biblioteca Coruchéus
END:VEVENT
BEGIN:VEVENT
DTSTART;TZID=Europe/Lisbon:20260408T190000
DTEND;TZID=Europe/Lisbon:20260429T200000
DTSTAMP:20260421T090051
CREATED:20260311T154606Z
LAST-MODIFIED:20260312T133421Z
UID:42007-1775674800-1777492800@blx.cm-lisboa.pt
SUMMARY:Meditação | abril 2026
DESCRIPTION:Sessões de meditação com base na tradição budista. \n  \n\nDinamização: Luís Miguel Carmo (União Budista Portuguesa)\nPara pessoas adultas\nParticipação gratuita e com marcação prévia\nContacto para marcação: bib.corucheus@cm-lisboa.pt  ou T. 218 172 049\n\n  \nSessões: \n\n8\, 15\, 22 e 29 abril\nquartas-feiras\n19h às 20h\n\n  \nAs sessões terão lugar na Biblioteca dos Coruchéus. \n  \nNo decorrer desta atividade\, são captadas imagens e som para divulgação pela CML\, entidade parceira ou promotora\, nos respetivos meios de comunicação\, como redes sociais e sites institucionais. Uma vez disponibilizados online\, os dados pessoais são suscetíveis de serem reutilizados e difundidos por terceiros.
URL:https://blx.cm-lisboa.pt/evento/meditacao-abril-2026/
LOCATION:Biblioteca dos Coruchéus\, Rua Alberto Oliveira\, Lisboa\, 1700-019\, Portugal
CATEGORIES:Biblioteca Coruchéus
ATTACH;FMTTYPE=image/jpeg:https://blx.cm-lisboa.pt/wp-content/uploads/2025/01/Meditacao_2025_site_.jpg
END:VEVENT
BEGIN:VEVENT
DTSTART;TZID=Europe/Lisbon:20260415T160000
DTEND;TZID=Europe/Lisbon:20260415T173000
DTSTAMP:20260421T090051
CREATED:20260317T174125Z
LAST-MODIFIED:20260317T174208Z
UID:42198-1776268800-1776274200@blx.cm-lisboa.pt
SUMMARY:Diálogos Filosóficos
DESCRIPTION:Sessão de aprendizagem informal de filosofia\, por Maria Luísa Abreu. \nUma vida de qualidade passa necessariamente pelo exercício da reflexão\, isto é\, pela formação de um pensamento critico baseado no exercício da racionalidade e orientado por critérios.\nNeste sentido\, a filosofia pode ser um poderoso instrumento prático\, uma prática de desenvolvimento do pensamento acessível a qualquer pessoa\, através do diálogo filosófico orientado\, aberto a diferentes maneiras de ver\, sentir e pensar. \n  \n\nPara pessoas adultas\nEntrada gratuita e com marcação prévia\nMarcações para: bib.corucheus@cm-lisboa.pt  ou T. 218 172 049\n\n  \nDia 15 abril\, 16h00\, na Biblioteca dos Coruchéus. \n  \nNo decorrer desta atividade\, são captadas imagens e som para divulgação pela CML\, entidade parceira ou promotora\, nos respetivos meios de comunicação\, como redes sociais e sites institucionais. Uma vez disponibilizados online\, os dados pessoais são suscetíveis de serem reutilizados e difundidos por terceiros.
URL:https://blx.cm-lisboa.pt/evento/dialogos-filosoficos-16/
LOCATION:Biblioteca dos Coruchéus\, Rua Alberto Oliveira\, Lisboa\, 1700-019\, Portugal
CATEGORIES:Biblioteca Coruchéus
ATTACH;FMTTYPE=image/jpeg:https://blx.cm-lisboa.pt/wp-content/uploads/2025/10/DiálogosFilosoficos_Site_outAdez_2025.jpg
END:VEVENT
END:VCALENDAR