BEGIN:VCALENDAR
VERSION:2.0
PRODID:-//Bibliotecas de Lisboa - ECPv5.3.1.1//NONSGML v1.0//EN
CALSCALE:GREGORIAN
METHOD:PUBLISH
X-WR-CALNAME:Bibliotecas de Lisboa
X-ORIGINAL-URL:https://blx.cm-lisboa.pt
X-WR-CALDESC:Events for Bibliotecas de Lisboa
BEGIN:VTIMEZONE
TZID:Europe/Lisbon
BEGIN:DAYLIGHT
TZOFFSETFROM:+0000
TZOFFSETTO:+0100
TZNAME:WEST
DTSTART:20240331T010000
END:DAYLIGHT
BEGIN:STANDARD
TZOFFSETFROM:+0100
TZOFFSETTO:+0000
TZNAME:WET
DTSTART:20241027T010000
END:STANDARD
END:VTIMEZONE
BEGIN:VEVENT
DTSTART;TZID=Europe/Lisbon:20240902T100000
DTEND;TZID=Europe/Lisbon:20240930T180000
DTSTAMP:20260423T214209
CREATED:20240808T154921Z
LAST-MODIFIED:20240829T104831Z
UID:29461-1725271200-1727719200@blx.cm-lisboa.pt
SUMMARY:90 anos da morte de Manuel Brito Camacho (1862-1924)
DESCRIPTION:Republicano\, médico\, escritor\, jornalista\, Brito Camacho foi uma figura de múltiplas facetas. \nA Hemeroteca assinala os 90 anos da sua morte através de uma mostra ilustrativa do seu percurso jornalístico\, profissional e literário. \nDinamização: Vanessa Batista \n  \nPatente no horário da hemeroteca\, de 2 a 30 de setembro\, na Hemeroteca Municipal de Lisboa. \nEntrada livre. \n  \nNo decorrer desta atividade\, são captadas imagens e som para divulgação pela CML\, entidade parceira ou promotora\, nos respetivos meios de comunicação\, como redes sociais e sites institucionais.
URL:https://blx.cm-lisboa.pt/evento/90-anos-da-morte-de-manuel-brito-camacho/
LOCATION:Hemeroteca Municipal de Lisboa\, R. Lúcio de Azevedo\, 21 B\, Lisboa\, 1600-145\, Portugal
CATEGORIES:Hemeroteca Municipal de Lisboa
ATTACH;FMTTYPE=image/jpeg:https://blx.cm-lisboa.pt/wp-content/uploads/2024/08/destaque_SET-HML_site.jpg
END:VEVENT
BEGIN:VEVENT
DTSTART;TZID=Europe/Lisbon:20240903T100000
DTEND;TZID=Europe/Lisbon:20241203T180000
DTSTAMP:20260423T214209
CREATED:20240813T164852Z
LAST-MODIFIED:20240829T113204Z
UID:29596-1725357600-1733248800@blx.cm-lisboa.pt
SUMMARY:O primeiro Modernismo português: ecos na coleção da Hemeroteca
DESCRIPTION:A Hemeroteca Municipal de Lisboa apresenta uma mostra dedicada às revistas que materializaram a primeira fase do movimento Modernista em Portugal. \nNeste leque de publicações\, encontramos a revista Athena : revista de arte\, com direção literária de Fernando Pessoa\, a qual assinalamos 100 anos da sua publicação. \nOs 130 anos do nascimento de Jorge Barradas também são recordados nesta mostra\, sublinhando participações do artista nestas páginas modernistas. \n  \nPatente\, no horário da hemeroteca\, de 3 de setembro a 3 de dezembro\, na Hemeroteca Municipal de Lisboa. \nEntrada livre. \n  \nNo decorrer desta atividade\, são captadas imagens e som para divulgação pela CML\, entidade parceira ou promotora\, nos respetivos meios de comunicação\, como redes sociais e sites institucionais.
URL:https://blx.cm-lisboa.pt/evento/as-revistas-modernistas-na-colecao-da-hemeroteca/
LOCATION:Hemeroteca Municipal de Lisboa\, R. Lúcio de Azevedo\, 21 B\, Lisboa\, 1600-145\, Portugal
CATEGORIES:Hemeroteca Municipal de Lisboa
ATTACH;FMTTYPE=image/jpeg:https://blx.cm-lisboa.pt/wp-content/uploads/2024/08/destaque-trimestral_HML_site.jpg
END:VEVENT
BEGIN:VEVENT
DTSTART;TZID=Europe/Lisbon:20240919T180000
DTEND;TZID=Europe/Lisbon:20240919T193000
DTSTAMP:20260423T214209
CREATED:20240819T160643Z
LAST-MODIFIED:20240912T160233Z
UID:29719-1726768800-1726774200@blx.cm-lisboa.pt
SUMMARY:II Encontro 'A imprensa como fonte de investigação'
DESCRIPTION:Segunda edição de um encontro dedicado a demonstrar a diversidade na utilização da imprensa como fonte para a produção escrita e científica. \nSão convidadas duas pessoas para falarem sobre este processo de criação: \n\nTiago Beato\, autor de ‘1973‘\nBeatriz Ruivo\, autora de ‘A secção Vida científica/ciência do Diário de Lisboa‘ (1965-1969).\n\nDinamizado por: Vanessa Batista \nPúblico-alvo: Adulto \n  \nO evento terá lugar no dia 19 de setembro\, pelas 18h00\, na Hemeroteca Municipal de Lisboa. \nEntrada livre. \n  \nNo decorrer desta atividade\, são captadas imagens e som para divulgação pela CML\, entidade parceira ou promotora\, nos respetivos meios de comunicação\, como redes sociais e sites institucionais.
URL:https://blx.cm-lisboa.pt/evento/ii-encontro-a-imprensa-como-fonte-de-investigacao/
LOCATION:Hemeroteca Municipal de Lisboa\, R. Lúcio de Azevedo\, 21 B\, Lisboa\, 1600-145\, Portugal
CATEGORIES:Hemeroteca Municipal de Lisboa
ATTACH;FMTTYPE=image/jpeg:https://blx.cm-lisboa.pt/wp-content/uploads/2024/08/imprensa-como-fonte_19SET_HML_site.jpg
END:VEVENT
END:VCALENDAR