BEGIN:VCALENDAR
VERSION:2.0
PRODID:-//Bibliotecas de Lisboa - ECPv5.3.1.1//NONSGML v1.0//EN
CALSCALE:GREGORIAN
METHOD:PUBLISH
X-WR-CALNAME:Bibliotecas de Lisboa
X-ORIGINAL-URL:https://blx.cm-lisboa.pt
X-WR-CALDESC:Events for Bibliotecas de Lisboa
BEGIN:VTIMEZONE
TZID:Europe/Lisbon
BEGIN:DAYLIGHT
TZOFFSETFROM:+0000
TZOFFSETTO:+0100
TZNAME:WEST
DTSTART:20240331T010000
END:DAYLIGHT
BEGIN:STANDARD
TZOFFSETFROM:+0100
TZOFFSETTO:+0000
TZNAME:WET
DTSTART:20241027T010000
END:STANDARD
END:VTIMEZONE
BEGIN:VEVENT
DTSTART;TZID=Europe/Lisbon:20241123T110000
DTEND;TZID=Europe/Lisbon:20241123T114500
DTSTAMP:20260426T004746
CREATED:20241114T135112Z
LAST-MODIFIED:20241114T183223Z
UID:33228-1732359600-1732362300@blx.cm-lisboa.pt
SUMMARY:1\, 2\, 3 plim a história começa assim...
DESCRIPTION:Um\, dois\, três plim a história começa assim… \nÉ bicho? É cor? É som? É sabor? \nVamos arrumar\, desarrumar e repor tudo no lugar! \nVamos escutar e descobrir o que os livros têm para nos contar. \n  \n\nDinamizado por: Margarida Frazão e Renata Ramos (mediadoras das BLX)\nPúblico-alvo: famílias com crianças dos 9 aos 36 meses\nEntrada gratuita e com marcação prévia\nMarcações através do email: bib.alcantara.infantil@cm-lisboa.pt\n\n  \nA atividade terá lugar no dia 23 de novembro\, pelas 11h00\, na Biblioteca de Alcântara – José Dias Coelho. \n  \nFoto: © João Barata | CML \nNo decorrer desta atividade\, são captadas imagens e som para divulgação pela CML\, entidade parceira ou promotora\, nos respetivos meios de comunicação\, como redes sociais e sites institucionais.
URL:https://blx.cm-lisboa.pt/evento/1-2-3-plim-a-historia-comeca-assim/
LOCATION:Biblioteca de Alcântara – José Dias Coelho\, Rua José Dias Coelho\, 27-29\, Lisboa\, 1300-327\, Portugal
CATEGORIES:Biblioteca Alcântara - José Dias Coelho
ATTACH;FMTTYPE=image/jpeg:https://blx.cm-lisboa.pt/wp-content/uploads/2024/11/1-2-3-plim_BA_site.jpg
END:VEVENT
END:VCALENDAR