BEGIN:VCALENDAR
VERSION:2.0
PRODID:-//Bibliotecas de Lisboa - ECPv5.3.1.1//NONSGML v1.0//EN
CALSCALE:GREGORIAN
METHOD:PUBLISH
X-WR-CALNAME:Bibliotecas de Lisboa
X-ORIGINAL-URL:https://blx.cm-lisboa.pt
X-WR-CALDESC:Events for Bibliotecas de Lisboa
BEGIN:VTIMEZONE
TZID:Europe/Lisbon
BEGIN:DAYLIGHT
TZOFFSETFROM:+0000
TZOFFSETTO:+0100
TZNAME:WEST
DTSTART:20260329T010000
END:DAYLIGHT
BEGIN:STANDARD
TZOFFSETFROM:+0100
TZOFFSETTO:+0000
TZNAME:WET
DTSTART:20261025T010000
END:STANDARD
END:VTIMEZONE
BEGIN:VEVENT
DTSTART;TZID=Europe/Lisbon:20260504T100000
DTEND;TZID=Europe/Lisbon:20260529T180000
DTSTAMP:20260424T064021
CREATED:20260423T123242Z
LAST-MODIFIED:20260423T125052Z
UID:42847-1777888800-1780077600@blx.cm-lisboa.pt
SUMMARY:100 anos do primeiro número do 'Sempre Fixe'
DESCRIPTION:No mês em que passam 100 anos do lançamento do primeiro número do ‘Sempre Fixe‘\, a Hemeroteca Municipal de Lisboa recorda o percurso desta mesma publicação. \n  \n\nDinamizado por: Vanessa Batista (BLX)\n\n  \nPatente\, no horário de funcionamento\, de 4 a 29 maio\, na Hemeroteca Municipal de Lisboa. \nEntrada livre. \n  \nNo decorrer desta atividade\, são captadas imagens e som para divulgação pela CML\, entidade parceira ou promotora\, nos respetivos meios de comunicação\, como redes sociais e sites institucionais. Uma vez disponibilizados online\, os dados pessoais são suscetíveis de serem reutilizados e difundidos por terceiros.
URL:https://blx.cm-lisboa.pt/evento/100-anos-do-primeiro-numero-do-sempre-fixe/
LOCATION:Hemeroteca Municipal de Lisboa\, R. Lúcio de Azevedo\, 21 B\, Lisboa\, 1600-145\, Portugal
CATEGORIES:Hemeroteca Municipal de Lisboa
END:VEVENT
END:VCALENDAR