BEGIN:VCALENDAR
VERSION:2.0
PRODID:-//Bibliotecas de Lisboa - ECPv5.3.1.1//NONSGML v1.0//EN
CALSCALE:GREGORIAN
METHOD:PUBLISH
X-WR-CALNAME:Bibliotecas de Lisboa
X-ORIGINAL-URL:https://blx.cm-lisboa.pt
X-WR-CALDESC:Events for Bibliotecas de Lisboa
BEGIN:VTIMEZONE
TZID:Europe/Lisbon
BEGIN:DAYLIGHT
TZOFFSETFROM:+0000
TZOFFSETTO:+0100
TZNAME:WEST
DTSTART:20240331T010000
END:DAYLIGHT
BEGIN:STANDARD
TZOFFSETFROM:+0100
TZOFFSETTO:+0000
TZNAME:WET
DTSTART:20241027T010000
END:STANDARD
END:VTIMEZONE
BEGIN:VEVENT
DTSTART;TZID=Europe/Lisbon:20240609T110000
DTEND;TZID=Europe/Lisbon:20240609T220000
DTSTAMP:20260424T000028
CREATED:20240524T201014Z
LAST-MODIFIED:20240524T225354Z
UID:27854-1717930800-1717970400@blx.cm-lisboa.pt
SUMMARY:94ª Feira do Livro de Lisboa | 2024
DESCRIPTION:Programa | 9 de junho: \n\n11h00 | LEITURA ENCENADA | “A sinfonia dos animais” de Dan Brown\nPor Adriana Silva e Vera Machado | Bibliotecas Municipais de Loures. Animação para bebés e crianças até aos 5 anos. Vem viajar pelos bosques e pelos mares com o Maestro Rato e os seus amigos músicos!\nSTAND BLX\n\n  \n\n12h00 | APRESENTAÇÃO DE LIVRO | “Urso sonâmbulo” de Joana Rocha\, OQO Editora\nO urso tinha muito cuidado para ter o seu bosque limpo e ordenado mas\, ao chegar o inverno\, levantava-se\, sonâmbulo\, e só fazia asneiras.\nSTAND BLX\n\n  \n\n14h00 | APRESENTAÇÃO DE LIVRO | “As Sete Camas do Arganaz” de Susanna Isern e Marco Somà | PNL\nPor Grupo Narrativa. Com a autora e ilustradora Sofia Paulino. O Arganaz acorda numa cama diferente todos os dias. Na caixa das cenouras do coelho\, na gaveta das gravatas do Pisco\, e até nas hastes do Veado. Mas por que razão o Arganaz não quer dormir na sua própria cama? Vem descobrir!\nSTAND BLX\n\n  \n\n15h30 | CONVERSA | Vidas e experiências trans nos géneros literários\nPor GRIT – Grupo de Reflexão e Intervenção Trans da ILGA Portugal. A leitura enquanto ponto de encontro connosco e com as experiências para as quais muitas vezes não vemos representadas no nosso dia a dia\, pois a invisibilidade continua a ser predominante quando falamos de experiências de vida trans e não-binárias. Porém\, sabemos que a leitura de um texto é pessoal e subjetiva. A mensagem dos livros molda a nossa vivência e a nossa vivência molda a interpretação destes textos. Como é que os diversos géneros literários moldam essa mesma experiência de leitura de experiências das vidas trans e não-binárias? Vem partilhar connosco a tua experiência de leitura sobre vivências trans ou\, até mesmo a tua escrita.\nSTAND BLX\n\n  \n\n16h30 | OFICINA DE ILUSTRAÇÃO | “Quem tem ideias?”\, Edições Assembleia da República\nCom Carolina Celas\, ilustradora da obra “Deputados do futuro\, olá!”\, com texto de Isabel Minhós Martins.\nSTAND BLX\n\n  \n\n18h00 | CICLO DE LEITURAS E PERFORMANCE DO PÉ PRÁ MÃO\nPor Coletivo Câmara. “DO PÉ PRÁ MÃO” é um ciclo de leituras e performance proposto pelo Coletivo Câmara\, a acontecer em locais não convencionais\, salas\, galerias\, bares e espaço público. Para este ciclo\, o coletivo reúne textos e trabalho em conjunto com o público na conquista de ideias possíveis de espetáculos\, concretizando nessa relação a procura pela palavra\, gesto e movimento. Para além da escrita\, o coletivo assume neste ciclo a investigação do corpo no texto\, testando limites e ensaiando possibilidades.\nSTAND BLX\n\n  \n\n19h00 | HISTÓRIAS | Viagem ao Mundo dos Contos – Uma aventura para todas as famílias\nPor Duarte Silva.\nSTAND BLX\n\n  \nDe 29 de maio a 16 de junho\, as Bibliotecas de Lisboa e a Loja BLX estarão presentes na Feira do Livro de Lisboa. \nConsulte toda a programação AQUI. \n  \nPrograma sujeito a alterações sem aviso prévio. \nNo decorrer das atividades\, são captadas imagens e som para divulgação pela CML\, entidade parceira ou promotora\, nos respetivos meios de comunicação\, como redes sociais e sites institucionais.
URL:https://blx.cm-lisboa.pt/evento/94a-feira-do-livro-de-lisboa-2024-13/
LOCATION:Feira do Livro de Lisboa\, Parque Eduardo VII\, Lisboa
CATEGORIES:Destaques
ATTACH;FMTTYPE=image/jpeg:https://blx.cm-lisboa.pt/wp-content/uploads/2024/05/FLL2024_site.jpg
END:VEVENT
END:VCALENDAR