BEGIN:VCALENDAR
VERSION:2.0
PRODID:-//Bibliotecas de Lisboa - ECPv5.3.1.1//NONSGML v1.0//EN
CALSCALE:GREGORIAN
METHOD:PUBLISH
X-WR-CALNAME:Bibliotecas de Lisboa
X-ORIGINAL-URL:https://blx.cm-lisboa.pt
X-WR-CALDESC:Events for Bibliotecas de Lisboa
BEGIN:VTIMEZONE
TZID:Europe/Lisbon
BEGIN:DAYLIGHT
TZOFFSETFROM:+0000
TZOFFSETTO:+0100
TZNAME:WEST
DTSTART:20240331T010000
END:DAYLIGHT
BEGIN:STANDARD
TZOFFSETFROM:+0100
TZOFFSETTO:+0000
TZNAME:WET
DTSTART:20241027T010000
END:STANDARD
END:VTIMEZONE
BEGIN:VEVENT
DTSTART;TZID=Europe/Lisbon:20240605T143000
DTEND;TZID=Europe/Lisbon:20240605T220000
DTSTAMP:20260421T032123
CREATED:20240523T150346Z
LAST-MODIFIED:20240523T154202Z
UID:27745-1717597800-1717624800@blx.cm-lisboa.pt
SUMMARY:94ª Feira do Livro de Lisboa | 2024
DESCRIPTION:Programa | 5 de junho: \n\n14h30 | OFICINA | Divisão de Gestão Cemiterial | CML\nDesenhos por transferência com relevo\, quantos queres\, desenhos para pintar/completar e um jogo com caixas mistério.\nRELVADO\n\n  \n\n14h30 | JOGOS | Patrulha Bicho: “Aqui há gato” e “O Bobi já está em casa”\nPor Casa dos Animais de Lisboa. Os jogos são atividades lúdico-pedagógicas que podem ser dinamizados com jovens e também por crianças e respetivas famílias.\nRELVADO\n\n  \n\n18h30 | CLUBE DE LEITURA | Trocado para Graúdos\nPor Biblioteca Palácio Galveias. Espaço de apresentação\, partilha informal e sugestões de obras destinadas aos públicos infantil e jovem de acordo com temáticas de interesse\, destinado a pessoas adultas que com eles se relacionam. Moderação: Adelaide Bernardo\, Maria José Leite e Natacha Lopes.\nSTAND BLX\n\n  \nDe 29 de maio a 16 de junho\, as Bibliotecas de Lisboa e a Loja BLX estarão presentes na Feira do Livro de Lisboa. \nConsulte toda a programação AQUI. \n  \nPrograma sujeito a alterações sem aviso prévio. \nNo decorrer das atividades\, são captadas imagens e som para divulgação pela CML\, entidade parceira ou promotora\, nos respetivos meios de comunicação\, como redes sociais e sites institucionais.
URL:https://blx.cm-lisboa.pt/evento/94a-feira-do-livro-de-lisboa-2024-9/
LOCATION:Feira do Livro de Lisboa\, Parque Eduardo VII\, Lisboa
CATEGORIES:Destaques
ATTACH;FMTTYPE=image/jpeg:https://blx.cm-lisboa.pt/wp-content/uploads/2024/05/FLL2024_site.jpg
END:VEVENT
END:VCALENDAR