BEGIN:VCALENDAR
VERSION:2.0
PRODID:-//Bibliotecas de Lisboa - ECPv5.3.1.1//NONSGML v1.0//EN
CALSCALE:GREGORIAN
METHOD:PUBLISH
X-WR-CALNAME:Bibliotecas de Lisboa
X-ORIGINAL-URL:https://blx.cm-lisboa.pt
X-WR-CALDESC:Events for Bibliotecas de Lisboa
BEGIN:VTIMEZONE
TZID:Europe/Lisbon
BEGIN:DAYLIGHT
TZOFFSETFROM:+0000
TZOFFSETTO:+0100
TZNAME:WEST
DTSTART:20240331T010000
END:DAYLIGHT
BEGIN:STANDARD
TZOFFSETFROM:+0100
TZOFFSETTO:+0000
TZNAME:WET
DTSTART:20241027T010000
END:STANDARD
END:VTIMEZONE
BEGIN:VEVENT
DTSTART;TZID=Europe/Lisbon:20241024T180000
DTEND;TZID=Europe/Lisbon:20241024T193000
DTSTAMP:20260424T204555
CREATED:20241018T105241Z
LAST-MODIFIED:20241018T105810Z
UID:32735-1729792800-1729798200@blx.cm-lisboa.pt
SUMMARY:A Vida é breve\, a Arte é longa: cinco séculos de Camões
DESCRIPTION:No âmbito do Ciclo de Conferências da Exposição Universal da Matriz Portuguesa “Camões 500 Anos” dedicadas à temática Camoniana\, convidamos a assistir à conferência “A Vida é breve\, a Arte é longa: cinco séculos de Camões”\, pelo Mestre Luís Vieira-Baptista (artista plástico). \n  \n\nLuís Vieira-Baptista\, nasceu em Lisboa a 15 de fevereiro de 1954. É um pintor português e foi o criador do “visionismo”. Por causa da guerra em África\, trocou o curso de arquitetura que estava a seguir\, por uma comissão de 7 anos na Marinha Mercante. Assim que saiu da Marinha\, tirou o Curso de Desenho com Modelo Vivo ministrado pela Sociedade Nacional de Belas Artes de Lisboa. A sua primeira exposição individual foi no Casino Estoril em 1975.\n\n  \nA conferência terá lugar no dia 24 de outubro\, pelas 18h\, na Biblioteca Palácio Galveias. \nEntrada livre. \n  \n[imagem gráfica elaborada pela entidade dinamizadora da iniciativa] \nNo decorrer desta atividade\, são captadas imagens e som para divulgação pela CML\, entidade parceira ou promotora\, nos respetivos meios de comunicação\, como redes sociais e sites institucionais.
URL:https://blx.cm-lisboa.pt/evento/a-vida-e-breve-a-arte-e-longa-cinco-seculos-de-camoes/
LOCATION:Biblioteca Palácio Galveias\, Campo Pequeno\, Lisboa\, 1049-046\, Portugal
CATEGORIES:Biblioteca Palácio Galveias
ATTACH;FMTTYPE=image/jpeg:https://blx.cm-lisboa.pt/wp-content/uploads/2024/10/TV_24-OUT-2024.jpg
END:VEVENT
END:VCALENDAR