BEGIN:VCALENDAR
VERSION:2.0
PRODID:-//Bibliotecas de Lisboa - ECPv5.3.1.1//NONSGML v1.0//EN
CALSCALE:GREGORIAN
METHOD:PUBLISH
X-WR-CALNAME:Bibliotecas de Lisboa
X-ORIGINAL-URL:https://blx.cm-lisboa.pt
X-WR-CALDESC:Events for Bibliotecas de Lisboa
BEGIN:VTIMEZONE
TZID:Europe/Lisbon
BEGIN:DAYLIGHT
TZOFFSETFROM:+0000
TZOFFSETTO:+0100
TZNAME:WEST
DTSTART:20250330T010000
END:DAYLIGHT
BEGIN:STANDARD
TZOFFSETFROM:+0100
TZOFFSETTO:+0000
TZNAME:WET
DTSTART:20251026T010000
END:STANDARD
END:VTIMEZONE
BEGIN:VEVENT
DTSTART;TZID=Europe/Lisbon:20251121T180000
DTEND;TZID=Europe/Lisbon:20251121T200000
DTSTAMP:20260426T024640
CREATED:20251024T181959Z
LAST-MODIFIED:20251113T170254Z
UID:39449-1763748000-1763755200@blx.cm-lisboa.pt
SUMMARY:Alecrins a ler
DESCRIPTION:Encontros mensais de leitura e discussão dedicados à literatura do ambiente. \nEcologia e clima\, natureza e sustentabilidade\, consumo e sociedade\, são alguns dos tópicos abordados\, a partir de obras selecionadas de ficção e não-ficção. \n  \nEm novembro\, o livro é “Cartografias de Lugares Mal Situados (10 Contos da Guerra)”\, de Ana Margarida de Carvalho\, com a presença da autora. \n  \n\nDinamizado por: Alecrim – Arte e ativismo climático\nPúblico-alvo: Maiores de 16 anos\nEntrada gratuita sujeita a marcação prévia\nContacto para marcação: umteatroemcadabairro.cjardimestrela@cm-lisboa.pt\n\n  \nDia 21 novembro\, 18h00\, na Casa do Jardim da Estrela. \n  \nNo decorrer desta atividade\, são captadas imagens e som para divulgação pela CML\, entidade parceira ou promotora\, nos respetivos meios de comunicação\, como redes sociais e sites institucionais.
URL:https://blx.cm-lisboa.pt/evento/alecrins-a-ler-2/
LOCATION:Casa do Jardim da Estrela
CATEGORIES:Casa do Jardim da Estrela
END:VEVENT
END:VCALENDAR