BEGIN:VCALENDAR
VERSION:2.0
PRODID:-//Bibliotecas de Lisboa - ECPv5.3.1.1//NONSGML v1.0//EN
CALSCALE:GREGORIAN
METHOD:PUBLISH
X-WR-CALNAME:Bibliotecas de Lisboa
X-ORIGINAL-URL:https://blx.cm-lisboa.pt
X-WR-CALDESC:Events for Bibliotecas de Lisboa
BEGIN:VTIMEZONE
TZID:Europe/Lisbon
BEGIN:DAYLIGHT
TZOFFSETFROM:+0000
TZOFFSETTO:+0100
TZNAME:WEST
DTSTART:20240331T010000
END:DAYLIGHT
BEGIN:STANDARD
TZOFFSETFROM:+0100
TZOFFSETTO:+0000
TZNAME:WET
DTSTART:20241027T010000
END:STANDARD
END:VTIMEZONE
BEGIN:VEVENT
DTSTART;TZID=Europe/Lisbon:20240518T100000
DTEND;TZID=Europe/Lisbon:20240518T120000
DTSTAMP:20260425T123653
CREATED:20240516T165321Z
LAST-MODIFIED:20240516T165321Z
UID:27609-1716026400-1716033600@blx.cm-lisboa.pt
SUMMARY:Aprender com o seu cão
DESCRIPTION:Com o workshop “Aprender com o seu cão” venha aprender um conjunto de ferramentas e técnicas\, que à luz da ciência\, o ajudarão a saber como ensinar ao seu cão comportamentos com base em metodologias de reforço positivo. \n\nDinamização: Provedoria Municipal dos Animais de Lisboa\nParticipação gratuita e com inscrição.\nInscrição em: https://bit.ly/3UBli9E\n\n  \nA atividade decorre no dia 18 de maio\, com início às 10h00\, na Biblioteca Palácio Galveias. \n  \nNo decorrer desta atividade\, são captadas imagens e som para divulgação pela CML\, entidade parceira ou promotora\, nos respetivos meios de comunicação\, como redes sociais e sites institucionais.
URL:https://blx.cm-lisboa.pt/evento/aprender-com-o-seu-cao/
LOCATION:Biblioteca Palácio Galveias\, Campo Pequeno\, Lisboa\, 1049-046\, Portugal
CATEGORIES:Biblioteca Palácio Galveias
END:VEVENT
END:VCALENDAR