BEGIN:VCALENDAR
VERSION:2.0
PRODID:-//Bibliotecas de Lisboa - ECPv5.3.1.1//NONSGML v1.0//EN
CALSCALE:GREGORIAN
METHOD:PUBLISH
X-WR-CALNAME:Bibliotecas de Lisboa
X-ORIGINAL-URL:https://blx.cm-lisboa.pt
X-WR-CALDESC:Events for Bibliotecas de Lisboa
BEGIN:VTIMEZONE
TZID:Europe/Lisbon
BEGIN:DAYLIGHT
TZOFFSETFROM:+0000
TZOFFSETTO:+0100
TZNAME:WEST
DTSTART:20240331T010000
END:DAYLIGHT
BEGIN:STANDARD
TZOFFSETFROM:+0100
TZOFFSETTO:+0000
TZNAME:WET
DTSTART:20241027T010000
END:STANDARD
END:VTIMEZONE
BEGIN:VEVENT
DTSTART;TZID=Europe/Lisbon:20240413T150000
DTEND;TZID=Europe/Lisbon:20240413T163000
DTSTAMP:20260420T091038
CREATED:20240410T110731Z
LAST-MODIFIED:20240416T130826Z
UID:26794-1713020400-1713025800@blx.cm-lisboa.pt
SUMMARY:Aprender com os cravos de Abril
DESCRIPTION:Os participantes serão convidados a fazer cravos em papel crepe que farão parte da composição da “Instalação artística – Cravos de Abril” a ser exposta no Varandim da Biblioteca Camões a partir de 23 de abril de 2024. \n\nDinamização: Armanda Ferreira\nParticipação gratuita e com marcação prévia.\nMarcações através do email/telefone: bib.camoes@cm-lisboa.pt | Telefone: 21 8172360\n\n  \nA oficina terá lugar no dia 13 de abril\, pelas 15h00\, na Biblioteca Camões. \n  \nNo decorrer desta atividade\, são captadas imagens e som para divulgação pela CML\, entidade parceira ou promotora\, nos respetivos meios de comunicação\, como redes sociais e sites institucionais.
URL:https://blx.cm-lisboa.pt/evento/aprender-com-os-cravos-de-abril/
LOCATION:Biblioteca Camões\, Largo do Calhariz\, 17 - 1º Esq.\, Lisboa\, 1200-086\, Portugal
CATEGORIES:Biblioteca Camões,Destaques
ATTACH;FMTTYPE=image/jpeg:https://blx.cm-lisboa.pt/wp-content/uploads/2024/04/AprenderComOsCravos_site.jpg
END:VEVENT
END:VCALENDAR