BEGIN:VCALENDAR
VERSION:2.0
PRODID:-//Bibliotecas de Lisboa - ECPv5.3.1.1//NONSGML v1.0//EN
CALSCALE:GREGORIAN
METHOD:PUBLISH
X-WR-CALNAME:Bibliotecas de Lisboa
X-ORIGINAL-URL:https://blx.cm-lisboa.pt
X-WR-CALDESC:Events for Bibliotecas de Lisboa
BEGIN:VTIMEZONE
TZID:Europe/Lisbon
BEGIN:DAYLIGHT
TZOFFSETFROM:+0000
TZOFFSETTO:+0100
TZNAME:WEST
DTSTART:20250330T010000
END:DAYLIGHT
BEGIN:STANDARD
TZOFFSETFROM:+0100
TZOFFSETTO:+0000
TZNAME:WET
DTSTART:20251026T010000
END:STANDARD
END:VTIMEZONE
BEGIN:VEVENT
DTSTART;TZID=Europe/Lisbon:20250517T153000
DTEND;TZID=Europe/Lisbon:20250517T170000
DTSTAMP:20260420T020657
CREATED:20250515T130955Z
LAST-MODIFIED:20250515T130955Z
UID:36449-1747495800-1747501200@blx.cm-lisboa.pt
SUMMARY:Aventureiros das histórias
DESCRIPTION:O Clube de Leitura Infantil reúne um sábado por mês para falar sobre um livro\, previamente selecionado de forma participativa. \n\nDinamização: Noélia Fernandes (BLX)\nSugerido para crianças dos 5 aos 8 anos.\nParticipação gratuita e com marcação.\nMais informações e marcações: umteatroemcadabairro.cjardimestrela@cm-lisboa.pt\n\n  \nA sessão realiza-se no dia 17 maio\, pelas 15h30\, na Casa do Jardim da Estrela. \n  \nNo decorrer desta atividade\, são captadas imagens e som para divulgação pela CML\, entidade parceira ou promotora\, nos respetivos meios de comunicação\, como redes sociais e sites institucionais.
URL:https://blx.cm-lisboa.pt/evento/aventureiros-das-historias-10/
LOCATION:Casa do Jardim da Estrela
CATEGORIES:Casa do Jardim da Estrela
END:VEVENT
END:VCALENDAR