BEGIN:VCALENDAR
VERSION:2.0
PRODID:-//Bibliotecas de Lisboa - ECPv5.3.1.1//NONSGML v1.0//EN
CALSCALE:GREGORIAN
METHOD:PUBLISH
X-WR-CALNAME:Bibliotecas de Lisboa
X-ORIGINAL-URL:https://blx.cm-lisboa.pt
X-WR-CALDESC:Events for Bibliotecas de Lisboa
BEGIN:VTIMEZONE
TZID:Europe/Lisbon
BEGIN:DAYLIGHT
TZOFFSETFROM:+0000
TZOFFSETTO:+0100
TZNAME:WEST
DTSTART:20240331T010000
END:DAYLIGHT
BEGIN:STANDARD
TZOFFSETFROM:+0100
TZOFFSETTO:+0000
TZNAME:WET
DTSTART:20241027T010000
END:STANDARD
END:VTIMEZONE
BEGIN:VEVENT
DTSTART;TZID=Europe/Lisbon:20240202T110000
DTEND;TZID=Europe/Lisbon:20240229T120000
DTSTAMP:20260420T134547
CREATED:20240131T114824Z
LAST-MODIFIED:20240207T145736Z
UID:25489-1706871600-1709208000@blx.cm-lisboa.pt
SUMMARY:Biblioteca Itinerante
DESCRIPTION:Aviso:\nA carrinha da Biblioteca Itinerante encontra-se avariada.\nO serviço de empréstimo está interrompido até à regularização da situação.\nNo entanto\, a Equipa continua a assegurar as atividades agendadas no itinerário.\nAgradecemos a compreensão. \n  \nA Biblioteca Itinerante da rede BLX – Bibliotecas de Lisboa está na Freguesia de Santa Clara! \nEm colaboração com vários parceiros do território\, andaremos por vários locais sempre prontos para vos receber.\nContamos com a sua visita! \nPara mais informações: bib.itinerantes.emp@cm-lisboa.pt | T. 218 170 541/2 | Tm. 914 511 298 \nNota: Datas ou locais poderão sofrer alterações por motivos que nos são alheios. \n  \nItinerário de fevereiro: \n\nDia 2\n11h00 – 12h00 | Dar a volta à história – Centro de Dia CSP – Galinheiras\nDia 5\n10h30 – 12h00 | Contar e cantar! – Ji Nuclisol – Galinheiras\, com a mediadora Vanessa Silva\nDia 6\n15h00 – 17h00 | Biblioteca Itinerante no Jardim de Stª Clara – Público em geral – Ameixoeira\nDia 7\n10h00 – 12h00 | Contar e cantar! – Ji do CSP Charneca Galinheiras – Galinheiras\, com a mediadora Vanessa Silva\nDia 9\n11h00 – 12h00 | Dar a volta à história – Centro de Dia CSP – Ameixoeira\nDia 14\n14h30 – 17h30 | Biblioteca Itinerante na Praça Lumiar – Público em geral – Parceria BLX Biblioteca Maria Keil e Junta de Freguesia do Lumiar\nDia 16\n10h30 – 12h00 | Dar a volta à história – Associação de Moradores PER 11 – Alta de Lisboa\nDia 20\n10h00 – 12h00 – Contar e cantar! – EB1 Pintora Maluda – Galinheiras\, com a mediadora Vanessa Silva\n15h00 – 17h00 – Biblioteca Itinerante no Jardim de Stª Clara – Público em geral – Ameixoeira\nDia 21\n10h00 – 12h00 | Contar e cantar! – EB1 Maria da Luz de Deus Ramos – Galinheiras\, com a mediadora Vanessa Silva\nDia 22\n15h30 – 17h00 | Contar e cantar! – ATL Centro Majari Pastoral dos Ciganos\, com a mediadora Maria Santos Silva (parceria com a Biblioteca Camões)\nDia 27\n15h00 – 17h00 | Biblioteca Itinerante no Polidesportivo Galinheiras – Público em geral – Galinheiras\nDia 29\n10h30 – 12h00 | Contar e cantar! – Ji Centro Majari Pastoral dos Ciganos\, com a mediadora Vanessa Silva\n\n  \nConsulte em versão PDF aqui. \n  \n  \nNo decorrer destas atividades\, são captadas imagens e som para divulgação pela CML\, entidade parceira ou promotora\, nos respetivos meios de comunicação\, como redes sociais e sites institucionais.
URL:https://blx.cm-lisboa.pt/evento/biblioteca-itinerante-10/
LOCATION:Biblioteca  Itinerante
CATEGORIES:Biblioteca Itinerante,Destaques
ATTACH;FMTTYPE=image/jpeg:https://blx.cm-lisboa.pt/wp-content/uploads/2024/01/Itinerario_Site.jpg
END:VEVENT
END:VCALENDAR