BEGIN:VCALENDAR
VERSION:2.0
PRODID:-//Bibliotecas de Lisboa - ECPv5.3.1.1//NONSGML v1.0//EN
CALSCALE:GREGORIAN
METHOD:PUBLISH
X-WR-CALNAME:Bibliotecas de Lisboa
X-ORIGINAL-URL:https://blx.cm-lisboa.pt
X-WR-CALDESC:Events for Bibliotecas de Lisboa
BEGIN:VTIMEZONE
TZID:Europe/Lisbon
BEGIN:DAYLIGHT
TZOFFSETFROM:+0000
TZOFFSETTO:+0100
TZNAME:WEST
DTSTART:20240331T010000
END:DAYLIGHT
BEGIN:STANDARD
TZOFFSETFROM:+0100
TZOFFSETTO:+0000
TZNAME:WET
DTSTART:20241027T010000
END:STANDARD
END:VTIMEZONE
BEGIN:VEVENT
DTSTART;TZID=Europe/Lisbon:20240217T110000
DTEND;TZID=Europe/Lisbon:20240217T123000
DTSTAMP:20260424T114404
CREATED:20240209T163450Z
LAST-MODIFIED:20240216T125422Z
UID:25663-1708167600-1708173000@blx.cm-lisboa.pt
SUMMARY:Bolas\, Caracóis e uma Flor | ESGOTADA
DESCRIPTION:Lançadas as sementes e através de gestos simples\, vamos dar forma ao barro e fazer nascer uma flor\, cobiçada e adorada por abelhas e outros bicharocos! \n  \n\nDinamização: Ana Teresa Magalhães.\nSugerida para famílias com crianças a partir dos 3 anos.\nEntrada gratuita e com marcação.\nMais informações e marcações para: umteatroemcadabairro.cjardimestrela@cm-lisboa.pt\n\n  \nA atividade decorre no dia 17 de fevereiro\, pelas 11h00\, na Casa do Jardim da Estrela. \n  \nNo decorrer desta atividade\, são captadas imagens e som para divulgação pela CML\, entidade parceira ou promotora\, nos respetivos meios de comunicação\, como redes sociais e sites institucionais.
URL:https://blx.cm-lisboa.pt/evento/bolas-caracois-e-uma-flor/
LOCATION:Casa do Jardim da Estrela
CATEGORIES:Casa do Jardim da Estrela
END:VEVENT
END:VCALENDAR