BEGIN:VCALENDAR
VERSION:2.0
PRODID:-//Bibliotecas de Lisboa - ECPv5.3.1.1//NONSGML v1.0//EN
CALSCALE:GREGORIAN
METHOD:PUBLISH
X-WR-CALNAME:Bibliotecas de Lisboa
X-ORIGINAL-URL:https://blx.cm-lisboa.pt
X-WR-CALDESC:Events for Bibliotecas de Lisboa
BEGIN:VTIMEZONE
TZID:Europe/Lisbon
BEGIN:DAYLIGHT
TZOFFSETFROM:+0000
TZOFFSETTO:+0100
TZNAME:WEST
DTSTART:20260329T010000
END:DAYLIGHT
BEGIN:STANDARD
TZOFFSETFROM:+0100
TZOFFSETTO:+0000
TZNAME:WET
DTSTART:20261025T010000
END:STANDARD
END:VTIMEZONE
BEGIN:VEVENT
DTSTART;TZID=Europe/Lisbon:20260124T150000
DTEND;TZID=Europe/Lisbon:20260124T170000
DTSTAMP:20260425T193509
CREATED:20260116T131522Z
LAST-MODIFIED:20260116T131522Z
UID:40723-1769266800-1769274000@blx.cm-lisboa.pt
SUMMARY:Casas para pássaros
DESCRIPTION:Oficina que combina artesanato\, arte e tecnologia\, utilizando mini máquinas de carpintaria seguras\, e que proporciona às crianças a oportunidade de cortar\, montar e decorar as suas peças com liberdade criativa. \n  \n\nDinamizado por: The little carpenters\nPara famílias com crianças a partir dos 5 anos\nParticipação gratuita e com marcação prévia\nContacto para marcação: umteatroemcadabairro.cjardimestrela@cm-lisboa.pt\n\n  \nDia 24 janeiro\, 15h00\, na Casa do Jardim da Estrela. \n  \nNo decorrer desta atividade\, são captadas imagens e som para divulgação pela CML\, entidade parceira ou promotora\, nos respetivos meios de comunicação\, como redes sociais e sites institucionais. Uma vez disponibilizados online\, os dados pessoais são suscetíveis de serem reutilizados e difundidos por terceiros.
URL:https://blx.cm-lisboa.pt/evento/casas-para-passaros/
LOCATION:Casa do Jardim da Estrela
CATEGORIES:Casa do Jardim da Estrela
END:VEVENT
END:VCALENDAR