BEGIN:VCALENDAR
VERSION:2.0
PRODID:-//Bibliotecas de Lisboa - ECPv5.3.1.1//NONSGML v1.0//EN
CALSCALE:GREGORIAN
METHOD:PUBLISH
X-WR-CALNAME:Bibliotecas de Lisboa
X-ORIGINAL-URL:https://blx.cm-lisboa.pt
X-WR-CALDESC:Events for Bibliotecas de Lisboa
BEGIN:VTIMEZONE
TZID:Europe/Lisbon
BEGIN:DAYLIGHT
TZOFFSETFROM:+0000
TZOFFSETTO:+0100
TZNAME:WEST
DTSTART:20240331T010000
END:DAYLIGHT
BEGIN:STANDARD
TZOFFSETFROM:+0100
TZOFFSETTO:+0000
TZNAME:WET
DTSTART:20241027T010000
END:STANDARD
END:VTIMEZONE
BEGIN:VEVENT
DTSTART;TZID=Europe/Lisbon:20240521T183000
DTEND;TZID=Europe/Lisbon:20240521T200000
DTSTAMP:20260420T020024
CREATED:20240516T122809Z
LAST-MODIFIED:20240516T123358Z
UID:27583-1716316200-1716321600@blx.cm-lisboa.pt
SUMMARY:Ciclo de colóquios sobre Interdisciplinaridade e Inteligência Artificial
DESCRIPTION:Colóquio sob o tema ‘Perspetiva interdisciplinar da relação entre corpo e mente‘ por João Vasconcelos Costa e Rodrigo Brito. \nA relação entre o corpo e a mente foi sempre um dos temas centrais da filosofia\, entre a perspetiva idealista/dualista e a perspetiva materialista. A evolução do conhecimento cientifico estabeleceu a indissociabilidade da mente e do funcionamento cerebral\, mas ainda falta muito para se compreender as bases biológicas\, físicas e químicas da fisiologia cerebral\, da mente humana. A próxima fase da ciência da vida vai centrar-se nesse domínio e exige uma grande interação interdisciplinar entre as ciências do corpo e da mente. Serão necessários novos instrumentos de análise e é possível que a inteligência artificial forneça meios para a obtenção de modelos para investigação. \n  \n\nCoordenação e organização: ABJC (Associação Bento de Jesus Caraça).\nJoão Vasconcelos Costa\, doutor e agregado em Medicina\, hoje reformado da sua atividade profissional\, foi o pioneiro em Portugal da virologia molecular\, que desenvolveu ao longo da sua vida de investigador no Instituto Gulbenkian de Ciência\, em que dirigiu o Laboratório de Virologia Molecular. Posteriormente\, foi também professor catedrático e diretor do Instituto de Higiene e Medicina Tropical da Universidade Nova de Lisboa.\nRodrigo Brito\, licenciado em Sociologia\, PhD em Psicologia (Université Libre de Bruxelles 2004). Professor de Psicologia (Universidade Lusófona\, 2011-2020) e de Economia (Ensino Secundário\, 2022-). Publicou investigação em relações grupais e intergrupais\, comportamento não-verbal e reabilitação cognitiva com realidade virtual.\n\n  \nA sessão realiza-se no dia 21 de maio\, pelas 18h30\, na Biblioteca Palácio Galveias. \nEntrada livre. \n  \n[imagem elaborada pela entidade dinamizadora da iniciativa] \nNo decorrer desta atividade\, são captadas imagens e som para divulgação pela CML\, entidade parceira ou promotora\, nos respetivos meios de comunicação\, como redes sociais e sites institucionais.
URL:https://blx.cm-lisboa.pt/evento/ciclo-de-coloquios-sobre-interdisciplinaridade-e-inteligencia-artificial-2/
LOCATION:Biblioteca Palácio Galveias\, Campo Pequeno\, Lisboa\, 1049-046\, Portugal
CATEGORIES:Biblioteca Palácio Galveias,Destaques
ATTACH;FMTTYPE=image/jpeg:https://blx.cm-lisboa.pt/wp-content/uploads/2024/05/TV-Interna_ABCJ_21maio.jpg
END:VEVENT
END:VCALENDAR