BEGIN:VCALENDAR
VERSION:2.0
PRODID:-//Bibliotecas de Lisboa - ECPv5.3.1.1//NONSGML v1.0//EN
CALSCALE:GREGORIAN
METHOD:PUBLISH
X-WR-CALNAME:Bibliotecas de Lisboa
X-ORIGINAL-URL:https://blx.cm-lisboa.pt
X-WR-CALDESC:Events for Bibliotecas de Lisboa
BEGIN:VTIMEZONE
TZID:Europe/Lisbon
BEGIN:DAYLIGHT
TZOFFSETFROM:+0000
TZOFFSETTO:+0100
TZNAME:WEST
DTSTART:20260329T010000
END:DAYLIGHT
BEGIN:STANDARD
TZOFFSETFROM:+0100
TZOFFSETTO:+0000
TZNAME:WET
DTSTART:20261025T010000
END:STANDARD
END:VTIMEZONE
BEGIN:VEVENT
DTSTART;TZID=Europe/Lisbon:20260506T180000
DTEND;TZID=Europe/Lisbon:20260506T200000
DTSTAMP:20260424T110101
CREATED:20260423T183010Z
LAST-MODIFIED:20260423T183159Z
UID:42884-1778090400-1778097600@blx.cm-lisboa.pt
SUMMARY:Ciclo Horizontes da Ciência
DESCRIPTION:No âmbito do “Ciclo de Conferências: Horizontes da Ciência”\, vai decorrer a conferência ‘Sismos e Sociedade‘\, por Paulo Martins Alves. \n  \nLonge dos olhares comuns muitos técnicos trabalham no aumento do conhecimento sobre a terra que pisamos.\nO que fazem os técnicos da sismologia? Que ferramentas têm à sua disposição? Como contribuem para a resiliência da sociedade?\nE\, também\, porque não\, tentar responder àquelas suas questões acerca da dinâmica da Terra? \n  \n  \n\nPalestrante – Paulo Martins Alves (Geólogo da Divisão de Geofísica do Instituto Português do Mar e da Atmosfera).\n\n  \n  \nEntrada livre sujeita à lotação da sala. \nSessão presencial e online. \n  \nDia 6 maio\, com início às 18h00\, na Biblioteca de Alcântara – José Dias Coelho. \nE online no seguinte link: https://www.youtube.com/@BLXBibliotecasdeLisboa/streams \n  \nNo decorrer desta atividade\, são captadas imagens e som para divulgação pela CML\, entidade parceira ou promotora\, nos respetivos meios de comunicação\, como redes sociais e sites institucionais. Uma vez disponibilizados online\, os dados pessoais são suscetíveis de serem reutilizados e difundidos por terceiros.
URL:https://blx.cm-lisboa.pt/evento/ciclo-horizontes-da-ciencia-11/
LOCATION:Biblioteca de Alcântara – José Dias Coelho\, Rua José Dias Coelho\, 27-29\, Lisboa\, 1300-327\, Portugal
CATEGORIES:Biblioteca Alcântara - José Dias Coelho,BLX online
ATTACH;FMTTYPE=image/jpeg:https://blx.cm-lisboa.pt/wp-content/uploads/2025/03/HorizontesDaCiencia_BA_site_novaVersao.jpg
END:VEVENT
END:VCALENDAR