BEGIN:VCALENDAR
VERSION:2.0
PRODID:-//Bibliotecas de Lisboa - ECPv5.3.1.1//NONSGML v1.0//EN
CALSCALE:GREGORIAN
METHOD:PUBLISH
X-WR-CALNAME:Bibliotecas de Lisboa
X-ORIGINAL-URL:https://blx.cm-lisboa.pt
X-WR-CALDESC:Events for Bibliotecas de Lisboa
BEGIN:VTIMEZONE
TZID:Europe/Lisbon
BEGIN:DAYLIGHT
TZOFFSETFROM:+0000
TZOFFSETTO:+0100
TZNAME:WEST
DTSTART:20240331T010000
END:DAYLIGHT
BEGIN:STANDARD
TZOFFSETFROM:+0100
TZOFFSETTO:+0000
TZNAME:WET
DTSTART:20241027T010000
END:STANDARD
END:VTIMEZONE
BEGIN:VEVENT
DTSTART;TZID=Europe/Lisbon:20240306T180000
DTEND;TZID=Europe/Lisbon:20240306T193000
DTSTAMP:20260423T130159
CREATED:20240223T172928Z
LAST-MODIFIED:20240223T173256Z
UID:25988-1709748000-1709753400@blx.cm-lisboa.pt
SUMMARY:Ciclo Horizontes da Ciência
DESCRIPTION:No âmbito do “Ciclos de Conferência: Horizontes da Ciência”\, vai decorrer a conferência “Dualidade da realidade na ótica da Física Quântica“. \n  \nNesta palestra\, Isadora Migliori\, apresentará os paradigmas revolucionários da Física Quântica que a levam a ser interface e inspiração para diversos movimentos e áreas do conhecimento.\nSerão abordados os conceitos físicos que estão na base da possibilidade da criação da experiência da realidade a partir da consciência do observador. Dentro desta temática\, será abordado\, a partir da ótica da física quântica\, o processo ilusório que gera a dualidade da realidade.\nEstamos migrando de uma sociedade baseada em paradigmas do séc. XVII – mecanicista\, linear\, materialista e determinista – para uma sociedade alicerçada nos paradigmas revolucionários da ciência contemporânea – descontínuo\, não-local\, probabilístico e de hierarquia entrelaçada. \n  \n\nOradora – Isadora Migliori\n\nIsadora Migliori é licenciada em Física\, especialista em Mecânica Quântica (Física de Campos). Pós-Graduação em Neurociências\, Neuropsicologia e Terapia Transpessoal. É professora da disciplina de Neurobiologia das Emoções na pós-Graduação de PNL e Mindfulness\, na Universidade Autónoma de Lisboa. Realiza pesquisa na área de investigação do impacto das ideias da Física Quântica na contemporaneidade. \n  \nEntrada livre sujeita à lotação da sala. \nSessão presencial e online. \nA conferência decorre no dia 6 de março\, pelas 18h00\, na Biblioteca de Alcântara.\nE online no seguinte link: https://www.youtube.com/@BLXBibliotecasdeLisboa/streams \n  \nNo decorrer desta atividade\, são captadas imagens e som para divulgação pela CML\, entidade parceira ou promotora\, nos respetivos meios de comunicação\, como redes sociais e sites institucionais.
URL:https://blx.cm-lisboa.pt/evento/ciclo-horizontes-da-ciencia-14/
LOCATION:Biblioteca de Alcântara – José Dias Coelho\, Rua José Dias Coelho\, 27-29\, Lisboa\, 1300-327\, Portugal
CATEGORIES:Biblioteca Alcântara - José Dias Coelho,BLX online,Destaques
ATTACH;FMTTYPE=image/jpeg:https://blx.cm-lisboa.pt/wp-content/uploads/2023/10/imagem-site_horizontes_.jpg
END:VEVENT
END:VCALENDAR