BEGIN:VCALENDAR
VERSION:2.0
PRODID:-//Bibliotecas de Lisboa - ECPv5.3.1.1//NONSGML v1.0//EN
CALSCALE:GREGORIAN
METHOD:PUBLISH
X-WR-CALNAME:Bibliotecas de Lisboa
X-ORIGINAL-URL:https://blx.cm-lisboa.pt
X-WR-CALDESC:Events for Bibliotecas de Lisboa
BEGIN:VTIMEZONE
TZID:Europe/Lisbon
BEGIN:DAYLIGHT
TZOFFSETFROM:+0000
TZOFFSETTO:+0100
TZNAME:WEST
DTSTART:20240331T010000
END:DAYLIGHT
BEGIN:STANDARD
TZOFFSETFROM:+0100
TZOFFSETTO:+0000
TZNAME:WET
DTSTART:20241027T010000
END:STANDARD
END:VTIMEZONE
BEGIN:VEVENT
DTSTART;TZID=Europe/Lisbon:20240127T110000
DTEND;TZID=Europe/Lisbon:20240127T123000
DTSTAMP:20260422T134031
CREATED:20240118T130646Z
LAST-MODIFIED:20240118T130646Z
UID:25250-1706353200-1706358600@blx.cm-lisboa.pt
SUMMARY:Contos no Banana Café
DESCRIPTION:Podemos contar histórias trocando-lhes as voltas?\nE se a loiça do café falasse? Ou caminhasse com ritmo\, sem se partir\, mesmo quando se transforma num herói? \nA mediadora de leitura da Casa do Jardim da Estrela vai de novo até ao Banana Café distribuir contos para todas as idades. \nQuando terminar\, será possível segui-la até à Casa do Jardim da Estrela e descobrir alguns segredos que ela encerra. \n  \n\nAtividade sugerida para famílias com crianças a partir dos 3 anos.\nEntrada gratuita e com marcação prévia.\nMais informações e marcações para: umteatroemcadabairro.cjardimestrela@cm-lisboa.pt\n\n  \nA sessão realiza-se no dia 27 de janeiro\, pelas 11h00\, no Banana Café e na Casa do Jardim da Estrela. \n  \nNo decorrer desta atividade\, são captadas imagens e som para divulgação pela CML\, entidade parceira ou promotora\, nos respetivos meios de comunicação\, como redes sociais e sites institucionais.
URL:https://blx.cm-lisboa.pt/evento/contos-no-banana-cafe-2/
LOCATION:Casa do Jardim da Estrela
CATEGORIES:Casa do Jardim da Estrela
END:VEVENT
END:VCALENDAR