BEGIN:VCALENDAR
VERSION:2.0
PRODID:-//Bibliotecas de Lisboa - ECPv5.3.1.1//NONSGML v1.0//EN
CALSCALE:GREGORIAN
METHOD:PUBLISH
X-WR-CALNAME:Bibliotecas de Lisboa
X-ORIGINAL-URL:https://blx.cm-lisboa.pt
X-WR-CALDESC:Events for Bibliotecas de Lisboa
BEGIN:VTIMEZONE
TZID:Europe/Lisbon
BEGIN:DAYLIGHT
TZOFFSETFROM:+0000
TZOFFSETTO:+0100
TZNAME:WEST
DTSTART:20240331T010000
END:DAYLIGHT
BEGIN:STANDARD
TZOFFSETFROM:+0100
TZOFFSETTO:+0000
TZNAME:WET
DTSTART:20241027T010000
END:STANDARD
END:VTIMEZONE
BEGIN:VEVENT
DTSTART;TZID=Europe/Lisbon:20241009T184500
DTEND;TZID=Europe/Lisbon:20241030T190000
DTSTAMP:20260423T160534
CREATED:20241003T125853Z
LAST-MODIFIED:20241003T125853Z
UID:30547-1728499500-1730314800@blx.cm-lisboa.pt
SUMMARY:Coro de Marvila
DESCRIPTION:Atividade no âmbito do festival “Os dias de Marvila | 3ª edição“. \nO “Coro de Marvila” foi criado em fevereiro de 2024\, fruto do interesse e vontade mútua da comunidade e da biblioteca\, para dar voz a todas as pessoas maiores de 16 anos\, com vontade de cantar em conjunto. \nLuís Bragança Gil\, compositor e maestro\, dirige este conjunto de vozes que vai fazer a sua estreia na 3ª edição de “Os Dias de Marvila”. \n  \nA atividade terá lugar no dia 9 de outubro\, pelas 18h45\, na Biblioteca de Marvila. \nEntrada livre. \n  \nNo decorrer desta atividade\, são captadas imagens e som para divulgação pela CML\, entidade parceira ou promotora\, nos respetivos meios de comunicação\, como redes sociais e sites institucionais.
URL:https://blx.cm-lisboa.pt/evento/coro-de-marvila-7/
LOCATION:Biblioteca de Marvila\, Rua António Gedeão\, Lisboa\, 1950-347\, Portugal
CATEGORIES:Biblioteca Marvila
ATTACH;FMTTYPE=image/jpeg:https://blx.cm-lisboa.pt/wp-content/uploads/2024/01/coro-de-marvila_site.jpg
END:VEVENT
END:VCALENDAR