BEGIN:VCALENDAR
VERSION:2.0
PRODID:-//Bibliotecas de Lisboa - ECPv5.3.1.1//NONSGML v1.0//EN
CALSCALE:GREGORIAN
METHOD:PUBLISH
X-WR-CALNAME:Bibliotecas de Lisboa
X-ORIGINAL-URL:https://blx.cm-lisboa.pt
X-WR-CALDESC:Events for Bibliotecas de Lisboa
BEGIN:VTIMEZONE
TZID:Europe/Lisbon
BEGIN:DAYLIGHT
TZOFFSETFROM:+0000
TZOFFSETTO:+0100
TZNAME:WEST
DTSTART:20260329T010000
END:DAYLIGHT
BEGIN:STANDARD
TZOFFSETFROM:+0100
TZOFFSETTO:+0000
TZNAME:WET
DTSTART:20261025T010000
END:STANDARD
END:VTIMEZONE
BEGIN:VEVENT
DTSTART;TZID=Europe/Lisbon:20260502T150000
DTEND;TZID=Europe/Lisbon:20260502T163000
DTSTAMP:20260425T171824
CREATED:20260422T153512Z
LAST-MODIFIED:20260422T153721Z
UID:42790-1777734000-1777739400@blx.cm-lisboa.pt
SUMMARY:Coruchéus em histórias de encantar
DESCRIPTION:Hora do conto seguida por oficina. \n  \n\nDinamizado por: Aurora Mendonça (BLX)\nPara famílias com crianças entre os 2 e os 6 anos\nEntrada gratuita e com marcação prévia\nContacto para marcação: bib.corucheus@cm-lisboa.pt ou T. 218 172 049\n\n  \n  \nDia 2 maio\, 15h00\, na Biblioteca dos Coruchéus. \n  \n  \nNo decorrer desta atividade\, são captadas imagens e som para divulgação pela CML\, entidade parceira ou promotora\, nos respetivos meios de comunicação\, como redes sociais e sites institucionais. Uma vez disponibilizados online\, os dados pessoais são suscetíveis de serem reutilizados e difundidos por terceiros.
URL:https://blx.cm-lisboa.pt/evento/corucheus-em-historias-de-encantar-3/
LOCATION:Biblioteca dos Coruchéus\, Rua Alberto Oliveira\, Lisboa\, 1700-019\, Portugal
CATEGORIES:Biblioteca Coruchéus
END:VEVENT
END:VCALENDAR