BEGIN:VCALENDAR
VERSION:2.0
PRODID:-//Bibliotecas de Lisboa - ECPv5.3.1.1//NONSGML v1.0//EN
CALSCALE:GREGORIAN
METHOD:PUBLISH
X-WR-CALNAME:Bibliotecas de Lisboa
X-ORIGINAL-URL:https://blx.cm-lisboa.pt
X-WR-CALDESC:Events for Bibliotecas de Lisboa
BEGIN:VTIMEZONE
TZID:Europe/Lisbon
BEGIN:DAYLIGHT
TZOFFSETFROM:+0000
TZOFFSETTO:+0100
TZNAME:WEST
DTSTART:20260329T010000
END:DAYLIGHT
BEGIN:STANDARD
TZOFFSETFROM:+0100
TZOFFSETTO:+0000
TZNAME:WET
DTSTART:20261025T010000
END:STANDARD
END:VTIMEZONE
BEGIN:VEVENT
DTSTART;TZID=Europe/Lisbon:20260306T180000
DTEND;TZID=Europe/Lisbon:20260306T193000
DTSTAMP:20260425T035240
CREATED:20260213T161921Z
LAST-MODIFIED:20260213T162050Z
UID:41454-1772820000-1772825400@blx.cm-lisboa.pt
SUMMARY:Crianças
DESCRIPTION:Apresentação do livro ‘Crianças’ de Pedro Ferreira Lourenço\, com prefácio da Prof. Dra. Maria Emília Nabuco\, e chancela da editora Companhia da Escrita. \n  \nO livro “Crianças” é uma obra de Não-ficção sobre a parentalidade desde o momento em que o casal ou progenitor sabe que vai ser pai até ao início da adolescência.\nEste relato na primeira pessoa\, sobre a experiência de ser pai\, aborda as diversas fases do desafio que a educação coloca aos pais. \nO relato é feito através de alternância entre episódios reais vividos pelo autor enquanto pai\, episódios considerados exemplificativos da importância de privilegiar o afeto\, o apoio e a orientação na relação com a criança\, e reflexões sobre cada fase educativa e respetivos desafios vivenciados pelos pais. \nNão se trata de um manual de recomendações\, mas sim da identificação de comportamentos relacionados com afeto\, orientação e disciplina\, e a forma como eles são percebidos pela criança\, com impacto no desenvolvimento do seu caráter. \nSão relatados episódios em contexto de escola\, música\, desporto e muitos outros. As duas crianças cujos relatos se descrevem neste livro são crianças confiantes e felizes\, e o livro procura estabelecer uma relação de causalidade entre esse facto e as escolhas feitas pelos pais ao longo da educação dos seus filhos na infância. \n  \nDia 6 março\, 18h00\, na Biblioteca Palácio Galveias. \nEntrada livre. \n  \nNo decorrer desta atividade\, são captadas imagens e som para divulgação pela CML\, entidade parceira ou promotora\, nos respetivos meios de comunicação\, como redes sociais e sites institucionais. Uma vez disponibilizados online\, os dados pessoais são suscetíveis de serem reutilizados e difundidos por terceiros.
URL:https://blx.cm-lisboa.pt/evento/criancas/
LOCATION:Biblioteca Palácio Galveias\, Campo Pequeno\, Lisboa\, 1049-046\, Portugal
CATEGORIES:Biblioteca Palácio Galveias
END:VEVENT
END:VCALENDAR