BEGIN:VCALENDAR
VERSION:2.0
PRODID:-//Bibliotecas de Lisboa - ECPv5.3.1.1//NONSGML v1.0//EN
CALSCALE:GREGORIAN
METHOD:PUBLISH
X-WR-CALNAME:Bibliotecas de Lisboa
X-ORIGINAL-URL:https://blx.cm-lisboa.pt
X-WR-CALDESC:Events for Bibliotecas de Lisboa
BEGIN:VTIMEZONE
TZID:Europe/Lisbon
BEGIN:DAYLIGHT
TZOFFSETFROM:+0000
TZOFFSETTO:+0100
TZNAME:WEST
DTSTART:20260329T010000
END:DAYLIGHT
BEGIN:STANDARD
TZOFFSETFROM:+0100
TZOFFSETTO:+0000
TZNAME:WET
DTSTART:20261025T010000
END:STANDARD
END:VTIMEZONE
BEGIN:VEVENT
DTSTART;TZID=Europe/Lisbon:20260116T180000
DTEND;TZID=Europe/Lisbon:20260116T193000
DTSTAMP:20260424T165353
CREATED:20260113T184716Z
LAST-MODIFIED:20260113T185221Z
UID:40595-1768586400-1768591800@blx.cm-lisboa.pt
SUMMARY:Ecos da Liberdade
DESCRIPTION:Lançamento do livro ‘Ecos da Liberdade’ de Joaquim Sequeira. \nEcos da Liberdade de Joaquim Sequeira. Uma reflexão literária sobre a liberdade enquanto ato contínuo de resistência e afirmação humana\, explorada através de metáforas\, experiências quotidianas e profundas ressonâncias emocionais.\nMais um testemunho de um sobrevivente dos campos de concentração em Angola. \n  \nDinamizado por: \n\nOrganização: Perfil Criativo\nCoordenação: Ricardo Rodrigues\n\n  \nDia 16 janeiro\, 18h00\, na Biblioteca Palácio Galveias. \nEntrada livre. \n  \n[imagem gráfica elaborada pela entidade dinamizadora da iniciativa] \nNo decorrer desta atividade\, são captadas imagens e som para divulgação pela CML\, entidade parceira ou promotora\, nos respetivos meios de comunicação\, como redes sociais e sites institucionais. Uma vez disponibilizados online\, os dados pessoais são suscetíveis de serem reutilizados e difundidos por terceiros.
URL:https://blx.cm-lisboa.pt/evento/ecos-da-liberdade/
LOCATION:Biblioteca Palácio Galveias\, Campo Pequeno\, Lisboa\, 1049-046\, Portugal
CATEGORIES:Biblioteca Palácio Galveias
ATTACH;FMTTYPE=image/jpeg:https://blx.cm-lisboa.pt/wp-content/uploads/2026/01/MAT_COM_GALVEIAS_2026_QTRACK.jpg
END:VEVENT
END:VCALENDAR