BEGIN:VCALENDAR
VERSION:2.0
PRODID:-//Bibliotecas de Lisboa - ECPv5.3.1.1//NONSGML v1.0//EN
CALSCALE:GREGORIAN
METHOD:PUBLISH
X-WR-CALNAME:Bibliotecas de Lisboa
X-ORIGINAL-URL:https://blx.cm-lisboa.pt
X-WR-CALDESC:Events for Bibliotecas de Lisboa
BEGIN:VTIMEZONE
TZID:Europe/Lisbon
BEGIN:DAYLIGHT
TZOFFSETFROM:+0000
TZOFFSETTO:+0100
TZNAME:WEST
DTSTART:20260329T010000
END:DAYLIGHT
BEGIN:STANDARD
TZOFFSETFROM:+0100
TZOFFSETTO:+0000
TZNAME:WET
DTSTART:20261025T010000
END:STANDARD
END:VTIMEZONE
BEGIN:VEVENT
DTSTART;TZID=Europe/Lisbon:20260502T100000
DTEND;TZID=Europe/Lisbon:20260502T180000
DTSTAMP:20260424T141745
CREATED:20260422T105214Z
LAST-MODIFIED:20260422T113040Z
UID:42774-1777716000-1777744800@blx.cm-lisboa.pt
SUMMARY:Element
DESCRIPTION:Um dia dedicado ao movimento\, alimentação e respiração saudáveis com sessão de culinária de primavera – aprendizagem prática de receitas culinárias sazonais\, aula de breathwork e de postura\, aula de Yoga e palestra sobre nutrição saudável. \n  \n\nDinamizado por: Inês Jacques e Cláudia Moita\nPara maiores de 16 anos\nTipo de acesso: Gratuita e marcação prévia\nContacto para marcação: umteatroemcadabairro.cjardimestrela@cm-lisboa.pt\n\n  \nDia 2 maio\, com início às 10h00\, na Casa do Jardim da Estrela. \n  \n  \nNo decorrer desta atividade\, são captadas imagens e som para divulgação pela CML\, entidade parceira ou promotora\, nos respetivos meios de comunicação\, como redes sociais e sites institucionais. Uma vez disponibilizados online\, os dados pessoais são suscetíveis de serem reutilizados e difundidos por terceiros.
URL:https://blx.cm-lisboa.pt/evento/element/
LOCATION:Casa do Jardim da Estrela
CATEGORIES:Casa do Jardim da Estrela
END:VEVENT
END:VCALENDAR