BEGIN:VCALENDAR
VERSION:2.0
PRODID:-//Bibliotecas de Lisboa - ECPv5.3.1.1//NONSGML v1.0//EN
CALSCALE:GREGORIAN
METHOD:PUBLISH
X-WR-CALNAME:Bibliotecas de Lisboa
X-ORIGINAL-URL:https://blx.cm-lisboa.pt
X-WR-CALDESC:Events for Bibliotecas de Lisboa
BEGIN:VTIMEZONE
TZID:Europe/Lisbon
BEGIN:DAYLIGHT
TZOFFSETFROM:+0000
TZOFFSETTO:+0100
TZNAME:WEST
DTSTART:20250330T010000
END:DAYLIGHT
BEGIN:STANDARD
TZOFFSETFROM:+0100
TZOFFSETTO:+0000
TZNAME:WET
DTSTART:20251026T010000
END:STANDARD
END:VTIMEZONE
BEGIN:VEVENT
DTSTART;TZID=Europe/Lisbon:20251122T110000
DTEND;TZID=Europe/Lisbon:20251122T120000
DTSTAMP:20260422T093545
CREATED:20251113T182220Z
LAST-MODIFIED:20251113T182220Z
UID:39714-1763809200-1763812800@blx.cm-lisboa.pt
SUMMARY:Era uma vez... ao Sábado
DESCRIPTION:Hora do conto com o livro ‘O Ouriço no outono‘ de Elena Ulyeva\, seguida por atividades lúdicas para famílias. \nÉ outono\, e o Ouriço percebe que o ar está mais fresco e que as folhas estão a mudar de verde para vermelho\, cor de laranja e amarelo.\nEle vê alguns dos seus amigos\, mas onde estarão os outros? Estarão a brincar às escondidas? \nDepois de leres a história\, descobre mais sobre o outono e faz uma atividade muito divertida. \n  \n\nDinamização: Cristina Dias e Matilde Garrido\nAtividade sugerida para famílias com crianças dos 3 aos 10 anos\nEntrada gratuita e com marcação\nContacto para marcação: bib.mkeil@jf-lumiar.pt ou T: 217 589 280\n\n  \nDia 22 novembro\, pelas 11h00\, na Biblioteca Maria Keil. \n  \nNo decorrer desta atividade\, são captadas imagens e som para divulgação pela CML\, entidade parceira ou promotora\, nos respetivos meios de comunicação\, como redes sociais e sites institucionais.
URL:https://blx.cm-lisboa.pt/evento/era-uma-vez-ao-sabado-13/
LOCATION:Biblioteca Maria Keil\, Rua Maria José da Guia\, 8\, Lisboa\, 1750-358\, Portugal
CATEGORIES:Biblioteca Maria Keil
END:VEVENT
END:VCALENDAR