BEGIN:VCALENDAR
VERSION:2.0
PRODID:-//Bibliotecas de Lisboa - ECPv5.3.1.1//NONSGML v1.0//EN
CALSCALE:GREGORIAN
METHOD:PUBLISH
X-WR-CALNAME:Bibliotecas de Lisboa
X-ORIGINAL-URL:https://blx.cm-lisboa.pt
X-WR-CALDESC:Events for Bibliotecas de Lisboa
BEGIN:VTIMEZONE
TZID:Europe/Lisbon
BEGIN:DAYLIGHT
TZOFFSETFROM:+0000
TZOFFSETTO:+0100
TZNAME:WEST
DTSTART:20250330T010000
END:DAYLIGHT
BEGIN:STANDARD
TZOFFSETFROM:+0100
TZOFFSETTO:+0000
TZNAME:WET
DTSTART:20251026T010000
END:STANDARD
END:VTIMEZONE
BEGIN:VEVENT
DTSTART;TZID=Europe/Lisbon:20251213T110000
DTEND;TZID=Europe/Lisbon:20251213T120000
DTSTAMP:20260424T173806
CREATED:20251215T175429Z
LAST-MODIFIED:20251218T163547Z
UID:40282-1765623600-1765627200@blx.cm-lisboa.pt
SUMMARY:Era uma vez... ao Sábado
DESCRIPTION:Hora do conto com o livro ‘A viagem do Pai Natal‘ de Mia Cassany\, seguida por atividades lúdicas para famílias. \nUm livro desdobrável para ler e descobrir a fascinante viagem do Pai Natal\, com páginas que se transformam num tapete muito divertido onde se lê a história da noite mais mágica do ano. \n  \n\nDinamização: Inês Alves e Matilde Garrido\nAtividade sugerida para famílias com crianças dos 3 aos 10 anos\nEntrada gratuita e com marcação\nContacto para marcação: bib.mkeil@jf-lumiar.pt ou T: 217 589 280\n\n  \nDia 13 dezembro\, pelas 11h00\, na Biblioteca Maria Keil. \n  \nNo decorrer desta atividade\, são captadas imagens e som para divulgação pela CML\, entidade parceira ou promotora\, nos respetivos meios de comunicação\, como redes sociais e sites institucionais.
URL:https://blx.cm-lisboa.pt/evento/era-uma-vez-ao-sabado-14/
LOCATION:Biblioteca Maria Keil\, Rua Maria José da Guia\, 8\, Lisboa\, 1750-358\, Portugal
CATEGORIES:Biblioteca Maria Keil
END:VEVENT
END:VCALENDAR