BEGIN:VCALENDAR
VERSION:2.0
PRODID:-//Bibliotecas de Lisboa - ECPv5.3.1.1//NONSGML v1.0//EN
CALSCALE:GREGORIAN
METHOD:PUBLISH
X-WR-CALNAME:Bibliotecas de Lisboa
X-ORIGINAL-URL:https://blx.cm-lisboa.pt
X-WR-CALDESC:Events for Bibliotecas de Lisboa
BEGIN:VTIMEZONE
TZID:Europe/Lisbon
BEGIN:DAYLIGHT
TZOFFSETFROM:+0000
TZOFFSETTO:+0100
TZNAME:WEST
DTSTART:20250330T010000
END:DAYLIGHT
BEGIN:STANDARD
TZOFFSETFROM:+0100
TZOFFSETTO:+0000
TZNAME:WET
DTSTART:20251026T010000
END:STANDARD
END:VTIMEZONE
BEGIN:VEVENT
DTSTART;TZID=Europe/Lisbon:20250927T110000
DTEND;TZID=Europe/Lisbon:20250927T120000
DTSTAMP:20260422T093545
CREATED:20250829T163110Z
LAST-MODIFIED:20250829T163654Z
UID:38218-1758970800-1758974400@blx.cm-lisboa.pt
SUMMARY:Era uma vez... ao Sábado
DESCRIPTION:Hora do conto com o livro ‘Pela floresta‘ de Anthony Browne\, seguida por atividades lúdicas para famílias. \nCerta noite fui acordado por um som terrível. Na manhã seguinte estava tudo silencioso. O papá não estava.\nPerguntei à mamã quando é que ele voltava\, mas ela não parecia saber.\nTinha saudades do papá… \n  \n\nDinamização: Ana Paulo\nAtividade sugerida para famílias com crianças dos 3 aos 10 anos\nEntrada gratuita e com marcação\nContacto para marcação: bib.mkeil@jf-lumiar.pt ou T: 217 589 280\n\n  \nDia 27 setembro\, pelas 11h00\, na Biblioteca Maria Keil. \n  \nNo decorrer desta atividade\, são captadas imagens e som para divulgação pela CML\, entidade parceira ou promotora\, nos respetivos meios de comunicação\, como redes sociais e sites institucionais.
URL:https://blx.cm-lisboa.pt/evento/era-uma-vez-ao-sabado-8/
LOCATION:Biblioteca Maria Keil\, Rua Maria José da Guia\, 8\, Lisboa\, 1750-358\, Portugal
CATEGORIES:Biblioteca Maria Keil
END:VEVENT
END:VCALENDAR