BEGIN:VCALENDAR
VERSION:2.0
PRODID:-//Bibliotecas de Lisboa - ECPv5.3.1.1//NONSGML v1.0//EN
CALSCALE:GREGORIAN
METHOD:PUBLISH
X-WR-CALNAME:Bibliotecas de Lisboa
X-ORIGINAL-URL:https://blx.cm-lisboa.pt
X-WR-CALDESC:Events for Bibliotecas de Lisboa
BEGIN:VTIMEZONE
TZID:Europe/Lisbon
BEGIN:DAYLIGHT
TZOFFSETFROM:+0000
TZOFFSETTO:+0100
TZNAME:WEST
DTSTART:20260329T010000
END:DAYLIGHT
BEGIN:STANDARD
TZOFFSETFROM:+0100
TZOFFSETTO:+0000
TZNAME:WET
DTSTART:20261025T010000
END:STANDARD
END:VTIMEZONE
BEGIN:VEVENT
DTSTART;TZID=Europe/Lisbon:20260314T110000
DTEND;TZID=Europe/Lisbon:20260314T114500
DTSTAMP:20260423T163531
CREATED:20260219T180721Z
LAST-MODIFIED:20260220T122106Z
UID:41556-1773486000-1773488700@blx.cm-lisboa.pt
SUMMARY:BubU
DESCRIPTION:BubU – Espetáculo de promoção da leitura para bebés com a actriz Cristina Paiva\, a partir do livro “Io\, Alice e il buio buio” de Alessandra Racca\, música de Joaquim Coelho e ilustrações de Mafalda Milhões. \n– Por favor\, por favor\, podes fazer o escuro escuro que eu quero dormir?\nAlice\, sem o escuro escuro não consegue dormir. \nA nossa curiosidade à descoberta do escuro\, entre a poesia e a leveza.\nUm espetáculo para quem ama o escuro mas também para quem prefere a luz\, um espetáculo para todos. \n  \nFicha técnica: \n\nProdução: Andante Associação Artística\nEncenação: Fernando Ladeira\nAdaptação do livro “Io\, Alice e il buio buio” de Alessandra Racca: Cristina Paiva\nInterpretação: Cristina Paiva\nIlustrações: Mafalda Milhões\nMúsica: Joaquim Coelho\nFigurino: Lucília Telmo\nLivralice: Fernando Ladeira\nProdução Gráfica: Pedro Maia\n\n  \nInformações adicionais: \n\nPara bebés dos 6 aos 36 meses / Também possível para crianças até aos 5 anos\nEntrada gratuita e com marcação prévia\nContacto para marcação: bib.alcantara.infantil@cm-lisboa.pt\nNúmero máximo de participantes: 20 bebés acompanhados pelos pais ou 25 bebés se apenas acompanhados por um adulto.\n\n  \n  \nDia 14 março\, 11h00\, na Biblioteca de Alcântara – José Dias Coelho. \n  \nNo decorrer desta atividade\, são captadas imagens e som para divulgação pela CML\, entidade parceira ou promotora\, nos respetivos meios de comunicação\, como redes sociais e sites institucionais. Uma vez disponibilizados online\, os dados pessoais são suscetíveis de serem reutilizados e difundidos por terceiros.
URL:https://blx.cm-lisboa.pt/evento/esgotado-bubu/
LOCATION:Biblioteca de Alcântara – José Dias Coelho\, Rua José Dias Coelho\, 27-29\, Lisboa\, 1300-327\, Portugal
CATEGORIES:Biblioteca Alcântara - José Dias Coelho
ATTACH;FMTTYPE=image/jpeg:https://blx.cm-lisboa.pt/wp-content/uploads/2026/01/BUBU_BPGalveias_site.jpg
END:VEVENT
END:VCALENDAR