BEGIN:VCALENDAR
VERSION:2.0
PRODID:-//Bibliotecas de Lisboa - ECPv5.3.1.1//NONSGML v1.0//EN
CALSCALE:GREGORIAN
METHOD:PUBLISH
X-WR-CALNAME:Bibliotecas de Lisboa
X-ORIGINAL-URL:https://blx.cm-lisboa.pt
X-WR-CALDESC:Events for Bibliotecas de Lisboa
BEGIN:VTIMEZONE
TZID:Europe/Lisbon
BEGIN:DAYLIGHT
TZOFFSETFROM:+0000
TZOFFSETTO:+0100
TZNAME:WEST
DTSTART:20250330T010000
END:DAYLIGHT
BEGIN:STANDARD
TZOFFSETFROM:+0100
TZOFFSETTO:+0000
TZNAME:WET
DTSTART:20251026T010000
END:STANDARD
END:VTIMEZONE
BEGIN:VEVENT
DTSTART;TZID=Europe/Lisbon:20250502T100000
DTEND;TZID=Europe/Lisbon:20250529T180000
DTSTAMP:20260419T182617
CREATED:20250417T173935Z
LAST-MODIFIED:20250516T230255Z
UID:36073-1746180000-1748541600@blx.cm-lisboa.pt
SUMMARY:Exposição de aguarelas 'Mares e Folhas'
DESCRIPTION:Natércia de Almeida nasceu em Santarém em 1941\, mas reside em Lisboa.\nPintora e poetisa autodidata conquista-nos pela sua sensibilidade estética e sorriso aberto\, que se espelham na paleta de imagens coloridas e palavras sábias que nos oferece. \nFrequentou\, em 1986-87\, o curso de desenho e pintura a aguarela e óleo na UITI\, em Lisboa.\nEm 1993 iniciou o estudo ao azulejo. Fez vários cursos de gravura. Publicou o livro de poesia Pintar as Palavras (Câmara Municipal de Santarém\, 1993) e ilustrou\, em 2008\, o conto «História de uma Mãe»\, do livro Contos de Hans Christian Andersen. \nDesde 1989\, tem apresentado os seus trabalhos com regularidade em exposições individuais e coletivas e em 2019 e 2024\, um grupo de alunos do curso de Comunicação Audiovisual FCT/Multimédia da escola profissional António Arroio em Lisboa realizou uma série de trabalhos inspirados na obra de Natércia. \n  \nPatente\, no horário de funcionamento\, de 2 a 29 maio\, na Biblioteca de Belém. \nEntrada livre. \n  \nNo decorrer desta atividade\, são captadas imagens e som para divulgação pela CML\, entidade parceira ou promotora\, nos respetivos meios de comunicação\, como redes sociais e sites institucionais.
URL:https://blx.cm-lisboa.pt/evento/exposicao-de-aguarelas-mares-e-folhas/
LOCATION:Biblioteca de Belém\, Rua da Junqueira\, 295/7\, Lisboa\, 1300 - 338\, Portugal
CATEGORIES:Biblioteca Belém
ATTACH;FMTTYPE=image/jpeg:https://blx.cm-lisboa.pt/wp-content/uploads/2025/04/UTF-8ExpoAguarelas-NatérciaAlmeida_site.jpg
END:VEVENT
END:VCALENDAR