BEGIN:VCALENDAR
VERSION:2.0
PRODID:-//Bibliotecas de Lisboa - ECPv5.3.1.1//NONSGML v1.0//EN
CALSCALE:GREGORIAN
METHOD:PUBLISH
X-WR-CALNAME:Bibliotecas de Lisboa
X-ORIGINAL-URL:https://blx.cm-lisboa.pt
X-WR-CALDESC:Events for Bibliotecas de Lisboa
BEGIN:VTIMEZONE
TZID:Europe/Lisbon
BEGIN:DAYLIGHT
TZOFFSETFROM:+0000
TZOFFSETTO:+0100
TZNAME:WEST
DTSTART:20260329T010000
END:DAYLIGHT
BEGIN:STANDARD
TZOFFSETFROM:+0100
TZOFFSETTO:+0000
TZNAME:WET
DTSTART:20261025T010000
END:STANDARD
END:VTIMEZONE
BEGIN:VEVENT
DTSTART;TZID=Europe/Lisbon:20260117T103000
DTEND;TZID=Europe/Lisbon:20260117T120000
DTSTAMP:20260424T114022
CREATED:20260114T164552Z
LAST-MODIFIED:20260114T164701Z
UID:40615-1768645800-1768651200@blx.cm-lisboa.pt
SUMMARY:Fábulas Contadas
DESCRIPTION:Resultado de uma parceria entre o grupo Penguin Random House e a Casa do Jardim da Estrela\, estas sessões mensais apresentam os livros da chancela Fábula\, uma chancela infantil de perfil mais literário\, com um catálogo de autores e ilustradores premiados. \n  \n\nDinamizado por: Grupo Penguin Random House\nPara famílias com crianças maiores de 3 anos\n\n  \nEm janeiro o livro selecionado é ‘A casinha de chocolate‘\, dos Irmãos Grimm. \n  \nDia 17 janeiro\, 10h30\, na Casa do Jardim da Estrela. \nEntrada livre. \n  \nNo decorrer desta atividade\, são captadas imagens e som para divulgação pela CML\, entidade parceira ou promotora\, nos respetivos meios de comunicação\, como redes sociais e sites institucionais. Uma vez disponibilizados online\, os dados pessoais são suscetíveis de serem reutilizados e difundidos por terceiros.
URL:https://blx.cm-lisboa.pt/evento/fabulas-contadas/
LOCATION:Casa do Jardim da Estrela
CATEGORIES:Casa do Jardim da Estrela
END:VEVENT
END:VCALENDAR