BEGIN:VCALENDAR
VERSION:2.0
PRODID:-//Bibliotecas de Lisboa - ECPv5.3.1.1//NONSGML v1.0//EN
CALSCALE:GREGORIAN
METHOD:PUBLISH
X-WR-CALNAME:Bibliotecas de Lisboa
X-ORIGINAL-URL:https://blx.cm-lisboa.pt
X-WR-CALDESC:Events for Bibliotecas de Lisboa
BEGIN:VTIMEZONE
TZID:Europe/Lisbon
BEGIN:DAYLIGHT
TZOFFSETFROM:+0000
TZOFFSETTO:+0100
TZNAME:WEST
DTSTART:20240331T010000
END:DAYLIGHT
BEGIN:STANDARD
TZOFFSETFROM:+0100
TZOFFSETTO:+0000
TZNAME:WET
DTSTART:20241027T010000
END:STANDARD
END:VTIMEZONE
BEGIN:VEVENT
DTSTART;TZID=Europe/Lisbon:20240615T110000
DTEND;TZID=Europe/Lisbon:20240615T123000
DTSTAMP:20260424T073818
CREATED:20240522T103119Z
LAST-MODIFIED:20240522T103947Z
UID:27694-1718449200-1718454600@blx.cm-lisboa.pt
SUMMARY:Filminhos infantis à solta pelo país | junho 2024
DESCRIPTION:Uma casa\, até então à venda\, arranca as suas estruturas e segue viagem.\nDepois entramos num mundo absurdo\, onde os papéis das crianças e dos adultos são invertidos.\nEste mês a Foxy e a Meg vão à pesca\, mas em vez de peixe\, apanham lixo.\nE por falar nisso\, segue-se outra animação onde um guarda-florestal encontra uma pilha de lixo descartada na floresta.\nPelo meio\, fazemos um piquenique com a Miriam e a sua trupe\, viajamos até Espanha\, onde um toureiro é perseguido por um toiro enraivecido e brincamos também com os Tumblies\, onde rolar e deslizar são palavras de ordem.\nNão acabamos sem antes fazer uma visita ao dentista\, junto do Mancha e do Manchinhas.\nFinalmente\, e para fechar em grande\, um camaleão tenta proteger-se do perigo que se aproxima\, mas é forçado a fugir. \n  \n\nAtividade sugerida para famílias com crianças maiores de 4 anos.\nA sessão inclui uma ficha pedagógica.\nAtividade promovida pela Associação Cultural Zero em Comportamento.\nEntrada paga e com reserva: 3€ ou 3\,5€ (se a reserva for feita no próprio dia).\nReservas por email ou telefone para: https://form.jotform.com/ProjectosParalelos/filminhos | Tel: 919 819 597\n\n  \nA sessão decorre no dia 15 de junho\, pelas 11h00\, na Biblioteca de Marvila. \n  \nNo decorrer desta atividade\, são captadas imagens e som para divulgação pela CML\, entidade parceira ou promotora\, nos respetivos meios de comunicação\, como redes sociais e sites institucionais.
URL:https://blx.cm-lisboa.pt/evento/filminhos-infantis-a-solta-pelo-pais-junho-2024/
LOCATION:Biblioteca de Marvila\, Rua António Gedeão\, Lisboa\, 1950-347\, Portugal
CATEGORIES:Biblioteca Marvila,Destaques
ATTACH;FMTTYPE=image/jpeg:https://blx.cm-lisboa.pt/wp-content/uploads/2024/05/rARF1dUm_Filminhos_Junho2024.jpeg
END:VEVENT
END:VCALENDAR