BEGIN:VCALENDAR
VERSION:2.0
PRODID:-//Bibliotecas de Lisboa - ECPv5.3.1.1//NONSGML v1.0//EN
CALSCALE:GREGORIAN
METHOD:PUBLISH
X-WR-CALNAME:Bibliotecas de Lisboa
X-ORIGINAL-URL:https://blx.cm-lisboa.pt
X-WR-CALDESC:Events for Bibliotecas de Lisboa
BEGIN:VTIMEZONE
TZID:Europe/Lisbon
BEGIN:DAYLIGHT
TZOFFSETFROM:+0000
TZOFFSETTO:+0100
TZNAME:WEST
DTSTART:20260329T010000
END:DAYLIGHT
BEGIN:STANDARD
TZOFFSETFROM:+0100
TZOFFSETTO:+0000
TZNAME:WET
DTSTART:20261025T010000
END:STANDARD
END:VTIMEZONE
BEGIN:VEVENT
DTSTART;TZID=Europe/Lisbon:20260502T100000
DTEND;TZID=Europe/Lisbon:20260530T180000
DTSTAMP:20260424T202002
CREATED:20260421T161111Z
LAST-MODIFIED:20260421T161239Z
UID:42768-1777716000-1780164000@blx.cm-lisboa.pt
SUMMARY:Fora da capa
DESCRIPTION:Nas Bibliotecas de Lisboa há livros cujos formatos desafiam a lógica convencional de folhear da direita para a esquerda: ora temos que os abrir como mapas\, ora temos que os ler de trás para a frente. \nE por vezes há ainda aqueles que “saltam à vista”. \nVenha conhecê-los. \n  \nPatente\, no horário de funcionamento\, de 2 a 30 maio\, na Casa do Jardim da Estrela. \nEntrada livre. \n  \n  \nNo decorrer desta atividade\, são captadas imagens e som para divulgação pela CML\, entidade parceira ou promotora\, nos respetivos meios de comunicação\, como redes sociais e sites institucionais. Uma vez disponibilizados online\, os dados pessoais são suscetíveis de serem reutilizados e difundidos por terceiros.
URL:https://blx.cm-lisboa.pt/evento/fora-da-capa/
LOCATION:Casa do Jardim da Estrela
CATEGORIES:Casa do Jardim da Estrela
END:VEVENT
END:VCALENDAR