BEGIN:VCALENDAR
VERSION:2.0
PRODID:-//Bibliotecas de Lisboa - ECPv5.3.1.1//NONSGML v1.0//EN
CALSCALE:GREGORIAN
METHOD:PUBLISH
X-WR-CALNAME:Bibliotecas de Lisboa
X-ORIGINAL-URL:https://blx.cm-lisboa.pt
X-WR-CALDESC:Events for Bibliotecas de Lisboa
BEGIN:VTIMEZONE
TZID:Europe/Lisbon
BEGIN:DAYLIGHT
TZOFFSETFROM:+0000
TZOFFSETTO:+0100
TZNAME:WEST
DTSTART:20240331T010000
END:DAYLIGHT
BEGIN:STANDARD
TZOFFSETFROM:+0100
TZOFFSETTO:+0000
TZNAME:WET
DTSTART:20241027T010000
END:STANDARD
END:VTIMEZONE
BEGIN:VEVENT
DTSTART;TZID=Europe/Lisbon:20240223T193000
DTEND;TZID=Europe/Lisbon:20240223T203000
DTSTAMP:20260423T160556
CREATED:20240221T143651Z
LAST-MODIFIED:20240221T143756Z
UID:25905-1708716600-1708720200@blx.cm-lisboa.pt
SUMMARY:Guitarras do Grácio : Concerto comentado com Diogo Lucena e Quadros
DESCRIPTION:O evento ‘Guitarras do Grácio‘ tem como objetivo divulgar a vida e a obra do Mestre Gilberto Grácio (1936-2021)\, apontado como o mais antigo e conceituado construtor de guitarras em Portugal.\nGilberto Grácio construiu guitarras tocadas por Carlos Paredes\, António Chaínho ou António Eustáquio\, entre outros.\nO evento visa\, também\, promover a divulgação de um instrumento que faz parte da cultura Portuguesa. \nDiogo Lucena e Quadros é discípulo de Carlos Gonçalves\, António Luís Gomes\, Paulo Parreira e Raul Nery\, sendo este último\, a sua grande referência.\nDá especial atenção à tradição guitarrística do passado tendo participado em espetáculos em Portugal como no estrangeiro\, acompanhando Tereza Tarouca\, Kátia Guerreiro\, João Ferreira-Rosa ou Nuno da Câmara Pereira.\nGravou diversos temas para a guitarra portuguesa com Jaime Santos e Francisco Gaspar. \n  \nFicha técnica: \n\nGuitarra portuguesa – Diogo Lucena e Quadros\nViola – Rogério Ferreira\nConceção/Produção: Diana Pimentel e Eduardo Birin\n\n  \nA sessão realiza-se no dia 23 de fevereiro\, pelas 19h30\, na Biblioteca Palácio Galveias. \nEspetáculo sugerido para M/6. \nEntrada gratuita. \n  \nFoto: © DR \n  \nNo decorrer desta atividade\, são captadas imagens e som para divulgação pela CML\, entidade parceira ou promotora\, nos respetivos meios de comunicação\, como redes sociais e sites institucionais.
URL:https://blx.cm-lisboa.pt/evento/guitarras-do-gracio-concerto-comentado-com-diogo-lucena-e-quadros/
LOCATION:Biblioteca Palácio Galveias\, Campo Pequeno\, Lisboa\, 1049-046\, Portugal
CATEGORIES:Biblioteca Palácio Galveias,Destaques
ATTACH;FMTTYPE=image/jpeg:https://blx.cm-lisboa.pt/wp-content/uploads/2024/02/DIOGO-LUCENA-E-QUADROS.jpg
END:VEVENT
END:VCALENDAR