BEGIN:VCALENDAR
VERSION:2.0
PRODID:-//Bibliotecas de Lisboa - ECPv5.3.1.1//NONSGML v1.0//EN
CALSCALE:GREGORIAN
METHOD:PUBLISH
X-WR-CALNAME:Bibliotecas de Lisboa
X-ORIGINAL-URL:https://blx.cm-lisboa.pt
X-WR-CALDESC:Events for Bibliotecas de Lisboa
BEGIN:VTIMEZONE
TZID:Europe/Lisbon
BEGIN:DAYLIGHT
TZOFFSETFROM:+0000
TZOFFSETTO:+0100
TZNAME:WEST
DTSTART:20240331T010000
END:DAYLIGHT
BEGIN:STANDARD
TZOFFSETFROM:+0100
TZOFFSETTO:+0000
TZNAME:WET
DTSTART:20241027T010000
END:STANDARD
END:VTIMEZONE
BEGIN:VEVENT
DTSTART;TZID=Europe/Lisbon:20240921T153000
DTEND;TZID=Europe/Lisbon:20240921T170000
DTSTAMP:20260424T054830
CREATED:20240820T164618Z
LAST-MODIFIED:20240917T111723Z
UID:29753-1726932600-1726938000@blx.cm-lisboa.pt
SUMMARY:Histórias curiosas\, canções saborosas
DESCRIPTION:Momento privilegiado de interação\, partilha e ludicidade\, onde se redescobre o prazer de brincar com gestos\, sons e palavras através de canções\, rimas e histórias que encantam. \nPais/cuidadores e as suas crianças são envolvidas num universo musical\, expressivo e relacional\, sendo convidados a participar\, a interagir entre si e a tecer novos fios de ligação e comunicação. \nCom recurso a dinâmicas lúdicas e expressivas\, e tendo como base o (nosso) Projeto Musical Cantar Juntos\, o sorriso\, o espanto e a espontaneidade das crianças e adultos surpreendem sempre\, revelando a alegria e o prazer de estarem juntos. \n\nDinamizado por: Associação Aprender em Parceria – A PAR\nSugerido para famílias com crianças dos 0 aos 3 anos\nParticipação gratuita e com marcação.\nContacto para marcação: bib.marvila@cm-lisboa.pt\n\n  \nA sessão terá lugar no dia 21 de setembro\, pelas 15h30\, na Biblioteca de Marvila. \n  \nNo decorrer desta atividade\, são captadas imagens e som para divulgação pela CML\, entidade parceira ou promotora\, nos respetivos meios de comunicação\, como redes sociais e sites institucionais.
URL:https://blx.cm-lisboa.pt/evento/historias-curiosas-cancoes-saborosas/
LOCATION:Biblioteca de Marvila\, Rua António Gedeão\, Lisboa\, 1950-347\, Portugal
CATEGORIES:Biblioteca Marvila
ATTACH;FMTTYPE=image/jpeg:https://blx.cm-lisboa.pt/wp-content/uploads/2024/08/A-PAR_BM_site.jpg
END:VEVENT
END:VCALENDAR