BEGIN:VCALENDAR
VERSION:2.0
PRODID:-//Bibliotecas de Lisboa - ECPv5.3.1.1//NONSGML v1.0//EN
CALSCALE:GREGORIAN
METHOD:PUBLISH
X-WR-CALNAME:Bibliotecas de Lisboa
X-ORIGINAL-URL:https://blx.cm-lisboa.pt
X-WR-CALDESC:Events for Bibliotecas de Lisboa
BEGIN:VTIMEZONE
TZID:Europe/Lisbon
BEGIN:DAYLIGHT
TZOFFSETFROM:+0000
TZOFFSETTO:+0100
TZNAME:WEST
DTSTART:20250330T010000
END:DAYLIGHT
BEGIN:STANDARD
TZOFFSETFROM:+0100
TZOFFSETTO:+0000
TZNAME:WET
DTSTART:20251026T010000
END:STANDARD
END:VTIMEZONE
BEGIN:VEVENT
DTSTART;TZID=Europe/Lisbon:20250517T103000
DTEND;TZID=Europe/Lisbon:20250517T113000
DTSTAMP:20260423T094641
CREATED:20250514T112546Z
LAST-MODIFIED:20250514T112546Z
UID:36402-1747477800-1747481400@blx.cm-lisboa.pt
SUMMARY:Hora do conto 'Queres vir brincar?'
DESCRIPTION:E se não existisse a televisão\, os computadores\, os tablets e os telemóveis\, sabias como brincar? \nNa história que te vamos contar tudo mudou quando estes aparelhos digitais entraram lá em casa. \nVem descobrir\, numa dinâmica bem divertida objetos diferentes que podes usar para criar diferentes brincadeiras. \n  \n\nDinamizado por: Susana Costa\nSugerido para famílias com crianças a partir dos 3 anos\nEntrada gratuita e com marcação prévia\nContacto para marcação: bib.belem.infantil@cm-lisboa.pt\n\n  \nA atividade terá lugar no dia 17 maio\, com início às 10h30\, na Biblioteca de Belém. \n  \nCréditos da imagem © pormenor de ilustração de Annick Masson \nNo decorrer desta atividade\, são captadas imagens e som para divulgação pela CML\, entidade parceira ou promotora\, nos respetivos meios de comunicação\, como redes sociais e sites institucionais.
URL:https://blx.cm-lisboa.pt/evento/hora-do-conto-queres-vir-brincar/
LOCATION:Biblioteca de Belém\, Rua da Junqueira\, 295/7\, Lisboa\, 1300 - 338\, Portugal
CATEGORIES:Biblioteca Belém
ATTACH;FMTTYPE=image/jpeg:https://blx.cm-lisboa.pt/wp-content/uploads/2025/05/MAI_17_HoraConto-QueresVirBrincar_site.jpg
END:VEVENT
END:VCALENDAR