BEGIN:VCALENDAR
VERSION:2.0
PRODID:-//Bibliotecas de Lisboa - ECPv5.3.1.1//NONSGML v1.0//EN
CALSCALE:GREGORIAN
METHOD:PUBLISH
X-WR-CALNAME:Bibliotecas de Lisboa
X-ORIGINAL-URL:https://blx.cm-lisboa.pt
X-WR-CALDESC:Events for Bibliotecas de Lisboa
BEGIN:VTIMEZONE
TZID:Europe/Lisbon
BEGIN:DAYLIGHT
TZOFFSETFROM:+0000
TZOFFSETTO:+0100
TZNAME:WEST
DTSTART:20240331T010000
END:DAYLIGHT
BEGIN:STANDARD
TZOFFSETFROM:+0100
TZOFFSETTO:+0000
TZNAME:WET
DTSTART:20241027T010000
END:STANDARD
END:VTIMEZONE
BEGIN:VEVENT
DTSTART;TZID=Europe/Lisbon:20240106T160000
DTEND;TZID=Europe/Lisbon:20240106T173000
DTSTAMP:20260425T023444
CREATED:20231219T151533Z
LAST-MODIFIED:20231219T151533Z
UID:24813-1704556800-1704562200@blx.cm-lisboa.pt
SUMMARY:Humanistas de Portugal
DESCRIPTION:Palestra pelo Grupo Humanistas de Portugal. \n  \nEntrada livre. \n  \nO evento decorre no dia 6 de janeiro\, pelas 16h00\, na Biblioteca dos Coruchéus. \n  \nNo decorrer desta atividade\, são captadas imagens e som para divulgação pela CML\, entidade parceira ou promotora\, nos respetivos meios de comunicação\, como redes sociais e sites institucionais.
URL:https://blx.cm-lisboa.pt/evento/humanistas-de-portugal-2/
LOCATION:Biblioteca dos Coruchéus\, Rua Alberto Oliveira\, Lisboa\, 1700-019\, Portugal
CATEGORIES:Biblioteca Coruchéus
END:VEVENT
END:VCALENDAR