BEGIN:VCALENDAR
VERSION:2.0
PRODID:-//Bibliotecas de Lisboa - ECPv5.3.1.1//NONSGML v1.0//EN
CALSCALE:GREGORIAN
METHOD:PUBLISH
X-WR-CALNAME:Bibliotecas de Lisboa
X-ORIGINAL-URL:https://blx.cm-lisboa.pt
X-WR-CALDESC:Events for Bibliotecas de Lisboa
BEGIN:VTIMEZONE
TZID:Europe/Lisbon
BEGIN:DAYLIGHT
TZOFFSETFROM:+0000
TZOFFSETTO:+0100
TZNAME:WEST
DTSTART:20240331T010000
END:DAYLIGHT
BEGIN:STANDARD
TZOFFSETFROM:+0100
TZOFFSETTO:+0000
TZNAME:WET
DTSTART:20241027T010000
END:STANDARD
END:VTIMEZONE
BEGIN:VEVENT
DTSTART;TZID=Europe/Lisbon:20240620T183000
DTEND;TZID=Europe/Lisbon:20240620T210000
DTSTAMP:20260425T123654
CREATED:20240614T170740Z
LAST-MODIFIED:20241114T182647Z
UID:28094-1718908200-1718917200@blx.cm-lisboa.pt
SUMMARY:Inner spaces | vol. 4
DESCRIPTION:Os Inner Spaces\, espaços interiores\, são oásis silenciosos dentro das nossas mentes onde procuramos inspiração\, afastados da nossa consciência consciente.\nNesses santuários\, sonhamos\, criamos e\, finalmente\, nos expressamos através da arte\, desejando nos conectar com os outros. \nSerá um serão cheio de histórias\, poesia e música\, num ambiente descontraído e aconchegante. \nCinco poetas e músicos irão levá-lo nas suas jornadas criativas enquanto exploramos vários estilos e assuntos literários. \nA sessão será falada em português e inglês. \n\nSugerido para pessoas jovens e adultas.\nEntrada gratuita e com marcação.\nMarcações para: bib.belem@cm-lisboa.pt ou https://rb.gy/q30jfh\n\n  \nA sessão terá lugar no dia 20 de junho\, pelas 18h30\, na Biblioteca de Belém. \n  \n[imagem gráfica elaborada pela entidade dinamizadora da iniciativa] \nNo decorrer desta atividade\, são captadas imagens e som para divulgação pela CML\, entidade parceira ou promotora\, nos respetivos meios de comunicação\, como redes sociais e sites institucionais.
URL:https://blx.cm-lisboa.pt/evento/inner-spaces/
LOCATION:Biblioteca de Belém\, Rua da Junqueira\, 295/7\, Lisboa\, 1300 - 338\, Portugal
CATEGORIES:Biblioteca Belém,Destaques
ATTACH;FMTTYPE=image/jpeg:https://blx.cm-lisboa.pt/wp-content/uploads/2024/06/inner-spaces-vol-4_Qtrack.jpg
END:VEVENT
END:VCALENDAR