BEGIN:VCALENDAR
VERSION:2.0
PRODID:-//Bibliotecas de Lisboa - ECPv5.3.1.1//NONSGML v1.0//EN
CALSCALE:GREGORIAN
METHOD:PUBLISH
X-WR-CALNAME:Bibliotecas de Lisboa
X-ORIGINAL-URL:https://blx.cm-lisboa.pt
X-WR-CALDESC:Events for Bibliotecas de Lisboa
BEGIN:VTIMEZONE
TZID:Europe/Lisbon
BEGIN:DAYLIGHT
TZOFFSETFROM:+0000
TZOFFSETTO:+0100
TZNAME:WEST
DTSTART:20250330T010000
END:DAYLIGHT
BEGIN:STANDARD
TZOFFSETFROM:+0100
TZOFFSETTO:+0000
TZNAME:WET
DTSTART:20251026T010000
END:STANDARD
END:VTIMEZONE
BEGIN:VEVENT
DTSTART;TZID=Europe/Lisbon:20250927T180000
DTEND;TZID=Europe/Lisbon:20250927T220000
DTSTAMP:20260425T004340
CREATED:20250916T160540Z
LAST-MODIFIED:20250916T160540Z
UID:38487-1758996000-1759010400@blx.cm-lisboa.pt
SUMMARY:Jogos de tabuleiro
DESCRIPTION:Diversão em família e/ou com amigos\, com jogos de tabuleiro para todas as idades. \n  \nDia 27 setembro\, com início às 18h00\, na Biblioteca/Espaço Cultural Cinema Europa. \nEntrada livre. \n  \nNo decorrer desta atividade\, são captadas imagens e som para divulgação pela CML\, entidade parceira ou promotora\, nos respetivos meios de comunicação\, como redes sociais e sites institucionais.
URL:https://blx.cm-lisboa.pt/evento/jogos-de-tabuleiro-11/
LOCATION:Biblioteca/Espaço Cultural Cinema Europa\, Rua Francisco Metrass\, 28 D\, Lisboa\, 1350-143\, Portugal
CATEGORIES:Biblioteca-Espaço Cultural Cinema Europa
END:VEVENT
END:VCALENDAR