BEGIN:VCALENDAR
VERSION:2.0
PRODID:-//Bibliotecas de Lisboa - ECPv5.3.1.1//NONSGML v1.0//EN
CALSCALE:GREGORIAN
METHOD:PUBLISH
X-WR-CALNAME:Bibliotecas de Lisboa
X-ORIGINAL-URL:https://blx.cm-lisboa.pt
X-WR-CALDESC:Events for Bibliotecas de Lisboa
BEGIN:VTIMEZONE
TZID:Europe/Lisbon
BEGIN:DAYLIGHT
TZOFFSETFROM:+0000
TZOFFSETTO:+0100
TZNAME:WEST
DTSTART:20260329T010000
END:DAYLIGHT
BEGIN:STANDARD
TZOFFSETFROM:+0100
TZOFFSETTO:+0000
TZNAME:WET
DTSTART:20261025T010000
END:STANDARD
END:VTIMEZONE
BEGIN:VEVENT
DTSTART;TZID=Europe/Lisbon:20260508T180000
DTEND;TZID=Europe/Lisbon:20260523T180000
DTSTAMP:20260425T024146
CREATED:20260424T151409Z
LAST-MODIFIED:20260424T151458Z
UID:42923-1778263200-1779559200@blx.cm-lisboa.pt
SUMMARY:LivrObjeto
DESCRIPTION:Instalação que explora a diversidade do Objeto que é Livro através de um vocabulário material\, da sua possível anatomia e da arquitetura que faz dele um abrigo\, templo\, casa ou túmulo. \nA ideia de paradigma parte das possibilidades primordiais dos livros enquanto objectos plurais e dinâmicos: Fazer Ver… e fazê-lo através de duas dimensões que limitam o Ser Humano – o conhecimento e a linguagem. \nEsta seleção de LivrOjetos dá a ver o tempo e o gesto com os quais nos entregamos à prática da Leitura no seu mais latu sensu\, num espaço de contemplação e experimentação e onde o manuseamento sugerido conta com a seriedade que se invoca o jogo. \n  \n\nCuradoria: Inês Correia\n\n  \nInauguração\, 8 maio\, 18h00. \nPatente\, no horário de funcionamento\, de 9 a 23 maio\, na Casa do Jardim da Estrela. \nEntrada livre. \n  \n  \nNo decorrer desta atividade\, são captadas imagens e som para divulgação pela CML\, entidade parceira ou promotora\, nos respetivos meios de comunicação\, como redes sociais e sites institucionais. Uma vez disponibilizados online\, os dados pessoais são suscetíveis de serem reutilizados e difundidos por terceiros.
URL:https://blx.cm-lisboa.pt/evento/livrobjeto/
LOCATION:Casa do Jardim da Estrela
CATEGORIES:Casa do Jardim da Estrela
END:VEVENT
END:VCALENDAR