BEGIN:VCALENDAR
VERSION:2.0
PRODID:-//Bibliotecas de Lisboa - ECPv5.3.1.1//NONSGML v1.0//EN
CALSCALE:GREGORIAN
METHOD:PUBLISH
X-WR-CALNAME:Bibliotecas de Lisboa
X-ORIGINAL-URL:https://blx.cm-lisboa.pt
X-WR-CALDESC:Events for Bibliotecas de Lisboa
BEGIN:VTIMEZONE
TZID:Europe/Lisbon
BEGIN:DAYLIGHT
TZOFFSETFROM:+0000
TZOFFSETTO:+0100
TZNAME:WEST
DTSTART:20260329T010000
END:DAYLIGHT
BEGIN:STANDARD
TZOFFSETFROM:+0100
TZOFFSETTO:+0000
TZNAME:WET
DTSTART:20261025T010000
END:STANDARD
END:VTIMEZONE
BEGIN:VEVENT
DTSTART;TZID=Europe/Lisbon:20260116T143000
DTEND;TZID=Europe/Lisbon:20260116T163000
DTSTAMP:20260424T134446
CREATED:20260113T183410Z
LAST-MODIFIED:20260113T183433Z
UID:40592-1768573800-1768581000@blx.cm-lisboa.pt
SUMMARY:Maria Lusitano - O Silêncio
DESCRIPTION:Atividade complementar da exposição ‘Quando os Jardins conversam’. \nEsta oficina conduzida por Maria Lusitano convida a entrar no silêncio como espaço de escuta profunda e presença interior.\nAtravés de meditação centrada no coração\, desenho e poesia\, abrimos um lugar de pausa onde a sabedoria interior pode emergir.\nQue vozes se revelam quando nos aproximamos da nossa essência? \n  \n\nParticipação gratuita e com marcação prévia\nMarcação para: umteatroemcadabairro.cjardimestrela@cm-lisboa.pt\n\n  \nDia 16 janeiro\, com início às 14h30\, na Casa do Jardim da Estrela. \n  \nNo decorrer desta atividade\, são captadas imagens e som para divulgação pela CML\, entidade parceira ou promotora\, nos respetivos meios de comunicação\, como redes sociais e sites institucionais. Uma vez disponibilizados online\, os dados pessoais são suscetíveis de serem reutilizados e difundidos por terceiros.
URL:https://blx.cm-lisboa.pt/evento/maria-lusitano-o-silencio/
LOCATION:Casa do Jardim da Estrela
CATEGORIES:Casa do Jardim da Estrela
END:VEVENT
END:VCALENDAR