BEGIN:VCALENDAR
VERSION:2.0
PRODID:-//Bibliotecas de Lisboa - ECPv5.3.1.1//NONSGML v1.0//EN
CALSCALE:GREGORIAN
METHOD:PUBLISH
X-WR-CALNAME:Bibliotecas de Lisboa
X-ORIGINAL-URL:https://blx.cm-lisboa.pt
X-WR-CALDESC:Events for Bibliotecas de Lisboa
BEGIN:VTIMEZONE
TZID:Europe/Lisbon
BEGIN:DAYLIGHT
TZOFFSETFROM:+0000
TZOFFSETTO:+0100
TZNAME:WEST
DTSTART:20250330T010000
END:DAYLIGHT
BEGIN:STANDARD
TZOFFSETFROM:+0100
TZOFFSETTO:+0000
TZNAME:WET
DTSTART:20251026T010000
END:STANDARD
END:VTIMEZONE
BEGIN:VEVENT
DTSTART;TZID=Europe/Lisbon:20250117T190000
DTEND;TZID=Europe/Lisbon:20250117T203000
DTSTAMP:20260425T145745
CREATED:20250110T114747Z
LAST-MODIFIED:20250113T121417Z
UID:34192-1737140400-1737145800@blx.cm-lisboa.pt
SUMMARY:Mozart mais Um
DESCRIPTION:Concerto ‘Mozart mais Um – Quarteto Lopes-Graça e Katharine Rawdon‘. \nUm programa que parte de uma das geniais obras de Mozart para um determinado conjunto de câmara onde associamos\, em contraponto\, uma outra\, moderna ou contemporânea para a mesma formação. \nConcerto com Quarteto para flauta e cordas do mestre de Viena ao lado de uma obra escura e contrastante de Copland. Completam o programa os duetos para violino e violoncelo do compositor russo Gliére. \nFicha técnica: \n\nFlautas | Katharine Rawdon\nViolino | Luís Pacheco Cunha\nVioleta | Isabel Pimentel\nVioloncelo | Catherine Strynckx\n\n  \nMais informações: \n\nDinamizado por: Musicamara Produções\nSugerido para maiores de 6 anos\nEntrada gratuita e com marcação prévia\nContactos para marcação: bib.marvila@cm-lisboa.pt | musicamera.producoes@gmail.com | Tm. 914 200 550\n\n  \nO concerto terá lugar no dia 17 de janeiro\, pelas 19h00\, na Biblioteca de Marvila. \n  \nFoto: © André Roma \nNo decorrer desta atividade\, são captadas imagens e som para divulgação pela CML\, entidade parceira ou promotora\, nos respetivos meios de comunicação\, como redes sociais e sites institucionais.
URL:https://blx.cm-lisboa.pt/evento/mozart-mais-um/
LOCATION:Biblioteca de Marvila\, Rua António Gedeão\, Lisboa\, 1950-347\, Portugal
CATEGORIES:Biblioteca Marvila,Destaques
ATTACH;FMTTYPE=image/jpeg:https://blx.cm-lisboa.pt/wp-content/uploads/2025/01/MusicamaraMozart_AndreRoma.jpg
END:VEVENT
END:VCALENDAR