BEGIN:VCALENDAR
VERSION:2.0
PRODID:-//Bibliotecas de Lisboa - ECPv5.3.1.1//NONSGML v1.0//EN
CALSCALE:GREGORIAN
METHOD:PUBLISH
X-WR-CALNAME:Bibliotecas de Lisboa
X-ORIGINAL-URL:https://blx.cm-lisboa.pt
X-WR-CALDESC:Events for Bibliotecas de Lisboa
BEGIN:VTIMEZONE
TZID:Europe/Lisbon
BEGIN:DAYLIGHT
TZOFFSETFROM:+0000
TZOFFSETTO:+0100
TZNAME:WEST
DTSTART:20250330T010000
END:DAYLIGHT
BEGIN:STANDARD
TZOFFSETFROM:+0100
TZOFFSETTO:+0000
TZNAME:WET
DTSTART:20251026T010000
END:STANDARD
END:VTIMEZONE
BEGIN:VEVENT
DTSTART;TZID=Europe/Lisbon:20250329T190000
DTEND;TZID=Europe/Lisbon:20250329T200000
DTSTAMP:20260421T125049
CREATED:20250321T154741Z
LAST-MODIFIED:20250321T155833Z
UID:35468-1743274800-1743278400@blx.cm-lisboa.pt
SUMMARY:Música - 'Violão do Brasil\, da rua... na academia'
DESCRIPTION:Mădălina Petre apresenta “Violão do Brasil\, da rua… na academia”. \nMădălina Petre é doutorada recentemente pelo programa de doutoramento da Universidade Nacional de Música de Bucareste\, na Roménia. \nA sua especialização no domínio da música brasileira explica o concerto para o qual vos convida\, em parceria com a Biblioteca de Alcântara – José Dias Coelho. \nMădălina Petre realizou dois programas de mobilidade de estudos em Portugal\, um no IIFA (Universidade Évora) e o segundo no CESEM (Universidade Nova) – onde continua a ser investigadora colaboradora.\nAs suas longas estadias em Portugal aproximaram-na não só de uma extraordinária comunidade de músicos brasileiros que influenciaram o seu pensamento musical\, mas também do público português\, perante o qual se apresentou em inúmeras situações e ocasiões\, desfrutando da simpatia e admiração do público. \n\nEntrada paga\nValor: 8€\n\n  \nO evento terá lugar no dia 29 de março\, pelas 19h00\, na Biblioteca de Alcântara – José Dias Coelho. \n  \nNo decorrer desta atividade\, são captadas imagens e som para divulgação pela CML\, entidade parceira ou promotora\, nos respetivos meios de comunicação\, como redes sociais e sites institucionais.
URL:https://blx.cm-lisboa.pt/evento/musica-violao-do-brasil-da-rua-na-academia/
LOCATION:Biblioteca de Alcântara – José Dias Coelho\, Rua José Dias Coelho\, 27-29\, Lisboa\, 1300-327\, Portugal
CATEGORIES:Biblioteca Alcântara - José Dias Coelho
ATTACH;FMTTYPE=image/jpeg:https://blx.cm-lisboa.pt/wp-content/uploads/2025/03/madalina_ioana_petre_BA-JDC_site.jpg
END:VEVENT
END:VCALENDAR