BEGIN:VCALENDAR
VERSION:2.0
PRODID:-//Bibliotecas de Lisboa - ECPv5.3.1.1//NONSGML v1.0//EN
CALSCALE:GREGORIAN
METHOD:PUBLISH
X-WR-CALNAME:Bibliotecas de Lisboa
X-ORIGINAL-URL:https://blx.cm-lisboa.pt
X-WR-CALDESC:Events for Bibliotecas de Lisboa
BEGIN:VTIMEZONE
TZID:Europe/Lisbon
BEGIN:DAYLIGHT
TZOFFSETFROM:+0000
TZOFFSETTO:+0100
TZNAME:WEST
DTSTART:20240331T010000
END:DAYLIGHT
BEGIN:STANDARD
TZOFFSETFROM:+0100
TZOFFSETTO:+0000
TZNAME:WET
DTSTART:20241027T010000
END:STANDARD
END:VTIMEZONE
BEGIN:VEVENT
DTSTART;TZID=Europe/Lisbon:20240921T150000
DTEND;TZID=Europe/Lisbon:20240921T160000
DTSTAMP:20260424T150957
CREATED:20240920T143340Z
LAST-MODIFIED:20240920T145015Z
UID:30300-1726930800-1726934400@blx.cm-lisboa.pt
SUMMARY:Não vales nada
DESCRIPTION:Lançamento do livro “Não vales nada” de Ana Cláudia Dâmaso. \nAcho que todos nós temos ou conhecemos uma Maria nas nossas vidas. Ou\, pelo menos\, sabemos de uma.\nMas quem é a Maria? Deixem-me contar-vos.\nAos treze anos\, mudou de casa\, mudou de escola… e mudou de personalidade. Ou melhor\, deixou de ter uma. A sua garra\, inteligência e paixões foram totalmente abaladas pelo bullying\, moldando a sua forma de pensar\, agir e interagir na fase mais crucial e intensa da sua vida: a adolescência. \n\nModerado por: Cláudia Amaral\nPessoa convidada: Cátia Marques\nSugerido para pessoas jovens e adultas.\nExemplares à venda\, (18€)\, com marcador e autógrafo.\n\n  \nA sessão terá lugar no dia 21 de setembro\, pelas 15h00\, na Biblioteca de Marvila. \nEntrada livre. \n  \nNo decorrer desta atividade\, são captadas imagens e som para divulgação pela CML\, entidade parceira ou promotora\, nos respetivos meios de comunicação\, como redes sociais e sites institucionais.
URL:https://blx.cm-lisboa.pt/evento/nao-vales-nada/
LOCATION:Biblioteca de Marvila\, Rua António Gedeão\, Lisboa\, 1950-347\, Portugal
CATEGORIES:Biblioteca Marvila
END:VEVENT
END:VCALENDAR