BEGIN:VCALENDAR
VERSION:2.0
PRODID:-//Bibliotecas de Lisboa - ECPv5.3.1.1//NONSGML v1.0//EN
CALSCALE:GREGORIAN
METHOD:PUBLISH
X-WR-CALNAME:Bibliotecas de Lisboa
X-ORIGINAL-URL:https://blx.cm-lisboa.pt
X-WR-CALDESC:Events for Bibliotecas de Lisboa
BEGIN:VTIMEZONE
TZID:Europe/Lisbon
BEGIN:DAYLIGHT
TZOFFSETFROM:+0000
TZOFFSETTO:+0100
TZNAME:WEST
DTSTART:20240331T010000
END:DAYLIGHT
BEGIN:STANDARD
TZOFFSETFROM:+0100
TZOFFSETTO:+0000
TZNAME:WET
DTSTART:20241027T010000
END:STANDARD
END:VTIMEZONE
BEGIN:VEVENT
DTSTART;TZID=Europe/Lisbon:20240601T113000
DTEND;TZID=Europe/Lisbon:20240601T130000
DTSTAMP:20260424T143919
CREATED:20240524T111745Z
LAST-MODIFIED:20240524T111745Z
UID:27767-1717241400-1717246800@blx.cm-lisboa.pt
SUMMARY:O gigante egoísta
DESCRIPTION:Espetáculo baseado no conto infantil “O gigante egoísta” de Oscar Wilde. \n\nSugerido para famílias com crianças.\n\n  \nA sessão terá lugar no dia 1 de junho\, pelas 11h30\, na Biblioteca / Espaço Cultural Cinema Europa. \nEntrada livre.
URL:https://blx.cm-lisboa.pt/evento/o-gigante-egoista/
LOCATION:Biblioteca/Espaço Cultural Cinema Europa\, Rua Francisco Metrass\, 28 D\, Lisboa\, 1350-143\, Portugal
CATEGORIES:Biblioteca-Espaço Cultural Cinema Europa
END:VEVENT
END:VCALENDAR