BEGIN:VCALENDAR
VERSION:2.0
PRODID:-//Bibliotecas de Lisboa - ECPv5.3.1.1//NONSGML v1.0//EN
CALSCALE:GREGORIAN
METHOD:PUBLISH
X-WR-CALNAME:Bibliotecas de Lisboa
X-ORIGINAL-URL:https://blx.cm-lisboa.pt
X-WR-CALDESC:Events for Bibliotecas de Lisboa
BEGIN:VTIMEZONE
TZID:Europe/Lisbon
BEGIN:DAYLIGHT
TZOFFSETFROM:+0000
TZOFFSETTO:+0100
TZNAME:WEST
DTSTART:20240331T010000
END:DAYLIGHT
BEGIN:STANDARD
TZOFFSETFROM:+0100
TZOFFSETTO:+0000
TZNAME:WET
DTSTART:20241027T010000
END:STANDARD
END:VTIMEZONE
BEGIN:VEVENT
DTSTART;TZID=Europe/Lisbon:20240519T100000
DTEND;TZID=Europe/Lisbon:20240519T113000
DTSTAMP:20260419T142800
CREATED:20240516T103522Z
LAST-MODIFIED:20240516T103736Z
UID:27563-1716112800-1716118200@blx.cm-lisboa.pt
SUMMARY:O velho da montanha
DESCRIPTION:Apresentação e leitura cantada do livro “O Velho da Montanha” de Rute Cancela (Bolinha de Música) e Carlo Giovani\, com edição de The Poets and Dragons Society. \n  \nCarlo Giovani usa cores vibrantes para criar o mundo envolvente de “O velho da montanha”.\nUm livro envolto em mistério e suspense.\nCom rimas curtas e uma estrutura repetitiva\, “O Velho da Montanha” é um livro divertido para ler e cantar em voz alta. \n\nSugerido para famílias com crianças dos 2 aos 8 anos.\n\n  \nA sessão terá lugar no dia 19 de maio\, pelas 10h00\, na Biblioteca de Alcântara. \nEntrada livre. \n  \n[imagem gráfica elaborada pela entidade dinamizadora da iniciativa] \nNo decorrer desta atividade\, são captadas imagens e som para divulgação pela CML\, entidade parceira ou promotora\, nos respetivos meios de comunicação\, como redes sociais e sites institucionais.
URL:https://blx.cm-lisboa.pt/evento/o-velho-da-montanha-2/
LOCATION:Biblioteca de Alcântara – José Dias Coelho\, Rua José Dias Coelho\, 27-29\, Lisboa\, 1300-327\, Portugal
CATEGORIES:Biblioteca Alcântara - José Dias Coelho,Destaques
ATTACH;FMTTYPE=image/jpeg:https://blx.cm-lisboa.pt/wp-content/uploads/2024/05/1_AL_OVelhoDaMontanha_Site.jpg
END:VEVENT
END:VCALENDAR