BEGIN:VCALENDAR
VERSION:2.0
PRODID:-//Bibliotecas de Lisboa - ECPv5.3.1.1//NONSGML v1.0//EN
CALSCALE:GREGORIAN
METHOD:PUBLISH
X-WR-CALNAME:Bibliotecas de Lisboa
X-ORIGINAL-URL:https://blx.cm-lisboa.pt
X-WR-CALDESC:Events for Bibliotecas de Lisboa
BEGIN:VTIMEZONE
TZID:Europe/Lisbon
BEGIN:DAYLIGHT
TZOFFSETFROM:+0000
TZOFFSETTO:+0100
TZNAME:WEST
DTSTART:20260329T010000
END:DAYLIGHT
BEGIN:STANDARD
TZOFFSETFROM:+0100
TZOFFSETTO:+0000
TZNAME:WET
DTSTART:20261025T010000
END:STANDARD
END:VTIMEZONE
BEGIN:VEVENT
DTSTART;TZID=Europe/Lisbon:20260508T100000
DTEND;TZID=Europe/Lisbon:20260529T180000
DTSTAMP:20260424T222124
CREATED:20260424T153343Z
LAST-MODIFIED:20260424T153343Z
UID:42925-1778234400-1780077600@blx.cm-lisboa.pt
SUMMARY:Obras de Mulheres
DESCRIPTION:Presença. Não é ornamento. Não é figura de fundo. Permanece. Ocupa espaço. Sustenta o próprio peso.\nA força não se anuncia – exerce-se. \n  \n  \nInauguração\, 16 maio\, 10h30. \nPatente\, no horário de funcionamento\, de 8 a 29 maio\, na Biblioteca da Penha de França (Espaço Adultos). \nEntrada livre. \n  \nCréditos da imagem: © MFátimaMSilva \nNo decorrer desta atividade\, são captadas imagens e som para divulgação pela CML\, entidade parceira ou promotora\, nos respetivos meios de comunicação\, como redes sociais e sites institucionais. Uma vez disponibilizados online\, os dados pessoais são suscetíveis de serem reutilizados e difundidos por terceiros.
URL:https://blx.cm-lisboa.pt/evento/obras-de-mulheres/
LOCATION:Biblioteca da Penha de França\, Rua Francisco Pedro Curado\, 6-A\, Lisboa\, 1170-139\, Portugal
CATEGORIES:Biblioteca Penha de França
ATTACH;FMTTYPE=image/jpeg:https://blx.cm-lisboa.pt/wp-content/uploads/2026/04/ExpoPintura_ObrasDeMulheres-site.jpg
END:VEVENT
END:VCALENDAR