BEGIN:VCALENDAR
VERSION:2.0
PRODID:-//Bibliotecas de Lisboa - ECPv5.3.1.1//NONSGML v1.0//EN
CALSCALE:GREGORIAN
METHOD:PUBLISH
X-WR-CALNAME:Bibliotecas de Lisboa
X-ORIGINAL-URL:https://blx.cm-lisboa.pt
X-WR-CALDESC:Events for Bibliotecas de Lisboa
BEGIN:VTIMEZONE
TZID:Europe/Lisbon
BEGIN:DAYLIGHT
TZOFFSETFROM:+0000
TZOFFSETTO:+0100
TZNAME:WEST
DTSTART:20240331T010000
END:DAYLIGHT
BEGIN:STANDARD
TZOFFSETFROM:+0100
TZOFFSETTO:+0000
TZNAME:WET
DTSTART:20241027T010000
END:STANDARD
END:VTIMEZONE
BEGIN:VEVENT
DTSTART;TZID=Europe/Lisbon:20241005T211500
DTEND;TZID=Europe/Lisbon:20241005T214500
DTSTAMP:20260425T112659
CREATED:20240926T151322Z
LAST-MODIFIED:20240926T151402Z
UID:30408-1728162900-1728164700@blx.cm-lisboa.pt
SUMMARY:Ode à Liberdade
DESCRIPTION:Performance constituída por 30 elementos\, organizados em 5 coros\, criada a partir do tema “Um Biblioteca de Abril” a partir de uma seleção de poemas de vários poetas. \nConta com a Direção Artística de David Silva e realizada pelo Grupo CD do Coletivo de Teatro Comunitário da Biblioteca de Alcântara – José Dias Coelho. \n\nDinamizado por: Coletivo de teatro comunitário da Biblioteca de Alcântara – José Dias Coelho\n\n  \nO evento terá lugar no dia 5 de outubro\, pelas 21h15\, na Biblioteca de Alcântara – José Dias Coelho. \nEntrada livre. \n  \nAtividade realizada no âmbito da comemoração do 4º aniversário da Biblioteca de Alcântara – José Dias Coelho. \n  \nNo decorrer desta atividade\, são captadas imagens e som para divulgação pela CML\, entidade parceira ou promotora\, nos respetivos meios de comunicação\, como redes sociais e sites institucionais.
URL:https://blx.cm-lisboa.pt/evento/ode-a-liberdade/
LOCATION:Biblioteca de Alcântara – José Dias Coelho\, Rua José Dias Coelho\, 27-29\, Lisboa\, 1300-327\, Portugal
CATEGORIES:Biblioteca Alcântara - José Dias Coelho
END:VEVENT
END:VCALENDAR