BEGIN:VCALENDAR
VERSION:2.0
PRODID:-//Bibliotecas de Lisboa - ECPv5.3.1.1//NONSGML v1.0//EN
CALSCALE:GREGORIAN
METHOD:PUBLISH
X-WR-CALNAME:Bibliotecas de Lisboa
X-ORIGINAL-URL:https://blx.cm-lisboa.pt
X-WR-CALDESC:Events for Bibliotecas de Lisboa
BEGIN:VTIMEZONE
TZID:Europe/Lisbon
BEGIN:DAYLIGHT
TZOFFSETFROM:+0000
TZOFFSETTO:+0100
TZNAME:WEST
DTSTART:20250330T010000
END:DAYLIGHT
BEGIN:STANDARD
TZOFFSETFROM:+0100
TZOFFSETTO:+0000
TZNAME:WET
DTSTART:20251026T010000
END:STANDARD
END:VTIMEZONE
BEGIN:VEVENT
DTSTART;TZID=Europe/Lisbon:20250315T100000
DTEND;TZID=Europe/Lisbon:20250316T173000
DTSTAMP:20260420T073704
CREATED:20250307T205556Z
LAST-MODIFIED:20250307T205556Z
UID:35206-1742032800-1742146200@blx.cm-lisboa.pt
SUMMARY:Oficina 'A infância pode ser um palco'
DESCRIPTION:‘A infância pode ser um palco’ – Workshop Coffeepaste de Dramaturgia\, com Ricardo Cabaça. \nEste workshop é um diálogo entre tempos\, uma ponte estreita entre o presente e o passado\, mais propriamente o tempo de infância de cada um dos participantes. \nEssencialmente é um estímulo para rever memórias e ficção\, revisitar um tempo longínquo sabendo que a fronteira entre ilusão e memória concreta é muito frágil.\nEste será um espaço para partilhar histórias\, traumas\, sonhos\, tudo aquilo que tenha alimentado a infância dos participantes. \nAo longo do workshop serão dados vários exercícios para viajar até ao passado\, por mais distante que ele esteja.\nCada participante deve trazer um pequeno espelho. \nDurante o workshop serão dadas ferramentas e estímulos para a criação dramatúrgica\, tendo como premissa o contágio inevitável da doença vulgarmente conhecida como dramaturgitis aguditis\, doença esta que não tem cura\, o que leva os seus portadores a escrever peças de teatro até ao final dos seus dias. \n\nDinamizado por: Coffeepaste\nSugerido para pessoas interessadas em experimentar a criação na dramaturgia\, dramaturgas/os emergentes\nAtividade paga e com inscrição\nValor: 115€\nContacto para marcação: info@coffeepaste.com\n\n  \nA oficina terá lugar nos dias 15 e 16 de março\, das 10h00 às 17h30\, na Biblioteca de Belém. \n  \nImagem: © CoffeePaste \nNo decorrer desta atividade\, são captadas imagens e som para divulgação pela CML\, entidade parceira ou promotora\, nos respetivos meios de comunicação\, como redes sociais e sites institucionais.
URL:https://blx.cm-lisboa.pt/evento/oficina-a-infancia-pode-ser-um-palco/
LOCATION:Biblioteca de Belém\, Rua da Junqueira\, 295/7\, Lisboa\, 1300 - 338\, Portugal
CATEGORIES:Biblioteca Belém
ATTACH;FMTTYPE=image/jpeg:https://blx.cm-lisboa.pt/wp-content/uploads/2025/03/CoffeePaste_site_CreditosCoffeePaste.jpg
END:VEVENT
END:VCALENDAR