BEGIN:VCALENDAR
VERSION:2.0
PRODID:-//Bibliotecas de Lisboa - ECPv5.3.1.1//NONSGML v1.0//EN
CALSCALE:GREGORIAN
METHOD:PUBLISH
X-WR-CALNAME:Bibliotecas de Lisboa
X-ORIGINAL-URL:https://blx.cm-lisboa.pt
X-WR-CALDESC:Events for Bibliotecas de Lisboa
BEGIN:VTIMEZONE
TZID:Europe/Lisbon
BEGIN:DAYLIGHT
TZOFFSETFROM:+0000
TZOFFSETTO:+0100
TZNAME:WEST
DTSTART:20240331T010000
END:DAYLIGHT
BEGIN:STANDARD
TZOFFSETFROM:+0100
TZOFFSETTO:+0000
TZNAME:WET
DTSTART:20241027T010000
END:STANDARD
END:VTIMEZONE
BEGIN:VEVENT
DTSTART;TZID=Europe/Lisbon:20240127T150000
DTEND;TZID=Europe/Lisbon:20240127T163000
DTSTAMP:20260425T023600
CREATED:20240118T131945Z
LAST-MODIFIED:20240118T131957Z
UID:25252-1706367600-1706373000@blx.cm-lisboa.pt
SUMMARY:Oficina de Desenho da Natureza
DESCRIPTION:Nesta oficina será feita uma introdução aos princípios de desenho tonal e desenho de contorno (mancha e linha / textura e forma). \nDepois partimos para a produção de conteúdos gráficos na área de Botânica\, com espécies autóctones do Jardim da Estrela\, com a aplicação da técnica de grafite sobre papel. \n  \n\nDinamização: Teodora Boneva\nPara maiores de 13 anos.\nEntrada gratuita e com marcação.\nMais informações e marcações para: umteatroemcadabairro.cjardimestrela@cm-lisboa.pt\n\n  \nA sessão realiza-se no dia 27 de janeiro\, pelas 15h00\, na Casa do Jardim da Estrela. \n  \nNo decorrer desta atividade\, são captadas imagens e som para divulgação pela CML\, entidade parceira ou promotora\, nos respetivos meios de comunicação\, como redes sociais e sites institucionais.
URL:https://blx.cm-lisboa.pt/evento/oficina-de-desenho-da-natureza/
LOCATION:Casa do Jardim da Estrela
CATEGORIES:Casa do Jardim da Estrela
END:VEVENT
END:VCALENDAR