BEGIN:VCALENDAR
VERSION:2.0
PRODID:-//Bibliotecas de Lisboa - ECPv5.3.1.1//NONSGML v1.0//EN
CALSCALE:GREGORIAN
METHOD:PUBLISH
X-WR-CALNAME:Bibliotecas de Lisboa
X-ORIGINAL-URL:https://blx.cm-lisboa.pt
X-WR-CALDESC:Events for Bibliotecas de Lisboa
BEGIN:VTIMEZONE
TZID:Europe/Lisbon
BEGIN:DAYLIGHT
TZOFFSETFROM:+0000
TZOFFSETTO:+0100
TZNAME:WEST
DTSTART:20240331T010000
END:DAYLIGHT
BEGIN:STANDARD
TZOFFSETFROM:+0100
TZOFFSETTO:+0000
TZNAME:WET
DTSTART:20241027T010000
END:STANDARD
END:VTIMEZONE
BEGIN:VEVENT
DTSTART;TZID=Europe/Lisbon:20240504T103000
DTEND;TZID=Europe/Lisbon:20240504T120000
DTSTAMP:20260419T174203
CREATED:20240502T105205Z
LAST-MODIFIED:20240502T105205Z
UID:27187-1714818600-1714824000@blx.cm-lisboa.pt
SUMMARY:Pau\, Pedra\, Linha
DESCRIPTION:Oficina dinamizada por “A Porta Amarela” sobre rastos e caminhos\, com inspiração no artista Richard Long. \nOs artistas deixam a sua marca na natureza.\nUsam os elementos que a natureza lhes dá para desenhar registar\, criar\, mas respeitando-a\, deixam também que ela apague através do vento\, da chuva\, da água e do seu natural crescimento. \nVamos descobrir que podemos criar trilhos\, caminhos e desenhos… depois colocamos os nossos próprios pés ao caminho para perceber que também somos natureza. \n  \n\nSugerido para famílias com crianças dos 18 aos 36 meses.\nEntrada gratuita e com marcação prévia.\nMarcações através do email: umteatroemcadabairro.cjardimestrela@cm-lisboa.pt\nDuas sessões: 10h30 e 11h30\n\n  \nA atividade terá lugar no dia 4 de maio\, pelas 10h30\, na Casa do Jardim da Estrela. \n  \nNo decorrer desta atividade\, são captadas imagens e som para divulgação pela CML\, entidade parceira ou promotora\, nos respetivos meios de comunicação\, como redes sociais e sites institucionais.
URL:https://blx.cm-lisboa.pt/evento/pau-pedra-linha/
LOCATION:Casa do Jardim da Estrela
CATEGORIES:Casa do Jardim da Estrela
END:VEVENT
END:VCALENDAR